BEGIN:VCALENDAR
VERSION:2.0
PRODID:-//https://iccmontereybay.org//NONSGML kigkonsult.se iCalcreator 2.41.71//
CALSCALE:GREGORIAN
METHOD:PUBLISH
UID:38313336-3565-4464-a333-636331626663
X-WR-CALNAME:JCal Pro Calendar
X-WR-CALDESC:Your online events calendar
X-WR-TIMEZONE:America/Los_Angeles
BEGIN:VTIMEZONE
TZID:America/Los_Angeles
TZUNTIL:20271107T090000Z
BEGIN:STANDARD
TZNAME:PST
DTSTART:20251102T020000
TZOFFSETFROM:-0700
TZOFFSETTO:-0800
RDATE:20261101T020000
END:STANDARD
BEGIN:DAYLIGHT
TZNAME:PDT
DTSTART:20260308T020000
TZOFFSETFROM:-0800
TZOFFSETTO:-0700
RDATE:20270314T020000
END:DAYLIGHT
END:VTIMEZONE
BEGIN:VEVENT
UID:20230131T083000PST-3960kglV4f@https://www.iccmontereybay.org/mmp_upgrad
 e/
DTSTAMP:20260423T235325Z
CATEGORIES:Training
DESCRIPTION:<p><a href='images/Meetings/Agenda/Training/2022_California_Fir
 e_Code_Update.pdf'>2022 California Fire Code Update</a></p>\n<p><a href='h
 ttps://www.eventbrite.com/e/406002523477'>Register</a></p>
DTSTART;TZID=America/Los_Angeles:20230201T083000
DTEND;TZID=America/Los_Angeles:20230201T160000
SUMMARY:2022 California Fire Code Updates (2)
URL:https://iccmontereybay.org/index.php/calendar/23-default/26-training/53
 9-2022-california-fire-code-updates-2
X-ALT-DESC;FMTTYPE=TEXT/HTML:<p><a href='images/Meetings/Agenda/Training/20
 22_California_Fire_Code_Update.pdf'>2022 California Fire Code Update</a></
 p>\n<p><a href='https://www.eventbrite.com/e/406002523477'>Register</a></p
 >
END:VEVENT
BEGIN:VEVENT
UID:20230201T083000PST-2010zK6iZA@https://www.iccmontereybay.org/mmp_upgrad
 e/
DTSTAMP:20260423T235325Z
CATEGORIES:Training
DESCRIPTION:<p><a href='images/Meetings/Agenda/Training/2022_California_Fir
 e_Code_Update.pdf'>2022 California Fire Code Update</a></p>\n<p><a href='h
 ttps://www.eventbrite.com/e/406003496387'>Register</a></p>
DTSTART;TZID=America/Los_Angeles:20230202T083000
DTEND;TZID=America/Los_Angeles:20230202T160000
SUMMARY:2022 California Fire Code Updates (3)
URL:https://iccmontereybay.org/index.php/calendar/23-default/26-training/54
 0-2022-california-fire-code-updates-3
X-ALT-DESC;FMTTYPE=TEXT/HTML:<p><a href='images/Meetings/Agenda/Training/20
 22_California_Fire_Code_Update.pdf'>2022 California Fire Code Update</a></
 p>\n<p><a href='https://www.eventbrite.com/e/406003496387'>Register</a></p
 >
END:VEVENT
BEGIN:VEVENT
UID:20220818T100000PDT-4976vHHHPj@http://www.iccmontereybay.org/mmp_upgrade
 /
DTSTAMP:20260423T235325Z
CATEGORIES:Meetings
DESCRIPTION:<p style='text-align: center\;'>Virtual Participants: Use the l
 ink below to login into the Virtual Chapter meeting (Zoom).<br /><a href='
 https://us06web.zoom.us/j/81863186012?pwd=VnF3OHJaT09CQzV5bENPN0VsdWVYdz09
 '>https://us06web.zoom.us/j/81863186012?pwd=VnF3OHJaT09CQzV5bENPN0VsdWVYdz
 09</a><br />Monterey Bay Chapter ICC is inviting you to a scheduled Zoom m
 eeting.<br />Meeting ID: 818 6318 6012<br />Passcode: 817704<br />Join by 
 phone 1-669-900-6833<br />Zoom is an option\, we will meet in person at th
 e Marina Public Library (Public Meeting Room)</p>
DTSTART;TZID=America/Los_Angeles:20230216T103000
DTEND;TZID=America/Los_Angeles:20230216T113000
SUMMARY:ICC Monterey Bay Chapter meeting
URL:https://iccmontereybay.org/index.php/calendar/23-default/24-meetings/51
 5-icc-monterey-bay-chapter-meeting
X-ALT-DESC;FMTTYPE=TEXT/HTML:<p style='text-align: center\;'>Virtual Partic
 ipants: Use the link below to login into the Virtual Chapter meeting (Zoom
 ).<br /><a href='https://us06web.zoom.us/j/81863186012?pwd=VnF3OHJaT09CQzV
 5bENPN0VsdWVYdz09'>https://us06web.zoom.us/j/81863186012?pwd=VnF3OHJaT09CQ
 zV5bENPN0VsdWVYdz09</a><br />Monterey Bay Chapter ICC is inviting you to a
  scheduled Zoom meeting.<br />Meeting ID: 818 6318 6012<br />Passcode: 817
 704<br />Join by phone 1-669-900-6833<br />Zoom is an option\, we will mee
 t in person at the Marina Public Library (Public Meeting Room)</p>
END:VEVENT
END:VCALENDAR
