BEGIN:VCALENDAR
VERSION:2.0
PRODID:-//https://iccmontereybay.org//NONSGML kigkonsult.se iCalcreator 2.41.71//
CALSCALE:GREGORIAN
METHOD:PUBLISH
UID:39643131-3764-4936-b964-396139313562
X-WR-CALNAME:JCal Pro Calendar
X-WR-CALDESC:Your online events calendar
X-WR-TIMEZONE:America/Los_Angeles
BEGIN:VTIMEZONE
TZID:America/Los_Angeles
TZUNTIL:20271107T090000Z
BEGIN:STANDARD
TZNAME:PST
DTSTART:20251102T020000
TZOFFSETFROM:-0700
TZOFFSETTO:-0800
RDATE:20261101T020000
END:STANDARD
BEGIN:DAYLIGHT
TZNAME:PDT
DTSTART:20260308T020000
TZOFFSETFROM:-0800
TZOFFSETTO:-0700
RDATE:20270314T020000
END:DAYLIGHT
END:VTIMEZONE
BEGIN:VEVENT
UID:20220818T100000PDT-4976vHHHPj@http://www.iccmontereybay.org/mmp_upgrade
 /
DTSTAMP:20260423T224322Z
CATEGORIES:Meetings
DESCRIPTION:<p style='text-align: center\;'>Virtual Participants: Use the l
 ink below to login into the Virtual Chapter meeting (Zoom).<br />Here is t
 he zoom link for the monthly Monterey Chapter meetings to share with your 
 members:<br /><a href='https://zoom.us/j/95557755164'>https://zoom.us/j/95
 557755164</a><br />Monterey Bay Chapter ICC is inviting you to a scheduled
  Zoom meeting.<br />Meeting ID: 955 5775 5164<br />Passcode: 033042<br />Z
 oom is an option\, we will meet in person at the Marina Airport</p>\n<p>&n
 bsp\;</p>
DTSTART;TZID=America/Los_Angeles:20220818T100000
DTEND;TZID=America/Los_Angeles:20220818T110000
RRULE:FREQ=MONTHLY;UNTIL=20231231T080000Z;INTERVAL=1;BYDAY=TH;BYSETPOS=3
SUMMARY:ICC Monterey Bay Chapter meeting
URL:https://iccmontereybay.org/index.php/calendar/23-default/24-meetings/49
 3-icc-monterey-bay-chapter-meeting
X-ALT-DESC;FMTTYPE=TEXT/HTML:<p style='text-align: center\;'>Virtual Partic
 ipants: Use the link below to login into the Virtual Chapter meeting (Zoom
 ).<br />Here is the zoom link for the monthly Monterey Chapter meetings to
  share with your members:<br /><a href='https://zoom.us/j/95557755164'>htt
 ps://zoom.us/j/95557755164</a><br />Monterey Bay Chapter ICC is inviting y
 ou to a scheduled Zoom meeting.<br />Meeting ID: 955 5775 5164<br />Passco
 de: 033042<br />Zoom is an option\, we will meet in person at the Marina A
 irport</p>\n<p>&nbsp\;</p>
END:VEVENT
BEGIN:VEVENT
UID:20200925T183000UTC-bc7b99@http://www.iccmontereybay.org/
DTSTAMP:20260423T224322Z
CATEGORIES:Events
DESCRIPTION:<p style='text-align: center\;'><strong>Tri Chapter Picnic</str
 ong></p>\n<p style='text-align: center\;'><strong>Higuera Adobe Park\, 679
 -715 Wessex Pl. Milpitas\, CA &nbsp\;95035</strong></p>\n<p style='text-al
 ign: center\;'><strong>Friday\, September 23<sup>rd</sup>\, 2022</strong><
 br /><strong>11:30 A.M. – 3:00 P.M.</strong></p>\n<p style='text-align: ce
 nter\;'>BBQ Lunch Provided</p>\n<p style='text-align: center\;'>A light me
 eting agenda will follow</p>\n<p style='text-align: center\;'>Registration
  $20</p>\n<p style='text-align: center\;'>&nbsp\;Please <a href='https://w
 ww.iccpeninsula.org/123-news/latest-news/146-2022-tri-chapter-meeting-picn
 ic'>RSVP</a> by September 19<sup>th</sup>\, 2022</p>\n<p style='text-align
 : center\;'>&nbsp\;</p>\n<p style='text-align: center\;'>Information on Hi
 guera Adode Park:<br />A historic adobe house sits on this 5.5 acre park w
 ith 9 barbeque units\, 16 tables\, play equipment\, parking for 20\, and p
 lenty of shade trees.</p>\n<p style='text-align: center\;'>VOLUNTEER TO SE
 T UP\, PLEASE CONTACT:<br />John and Karen LaTorra at <joomla-hidden-mail 
  is-link='1' is-email='1' first='anRsYXRvcnJh' last='Z21haWwuY29t' text='a
 nRsYXRvcnJhQGdtYWlsLmNvbQ==' base='' >This email address is being protecte
 d from spambots. You need JavaScript enabled to view it.</joomla-hidden-ma
 il><br /><br /><br /></p>\n<p style='text-align: center\;'>&nbsp\;</p>
DTSTART;TZID=America/Los_Angeles:20220923T113000
DTEND;TZID=America/Los_Angeles:20220923T150000
SUMMARY:Tri-Chapter Picnic
URL:https://iccmontereybay.org/index.php/calendar/23-default/25-events/395-
 tri-chapter-picnic
X-ALT-DESC;FMTTYPE=TEXT/HTML:<p style='text-align: center\;'><strong>Tri Ch
 apter Picnic</strong></p>\n<p style='text-align: center\;'><strong>Higuera
  Adobe Park\, 679-715 Wessex Pl. Milpitas\, CA &nbsp\;95035</strong></p>\n
 <p style='text-align: center\;'><strong>Friday\, September 23<sup>rd</sup>
 \, 2022</strong><br /><strong>11:30 A.M. – 3:00 P.M.</strong></p>\n<p styl
 e='text-align: center\;'>BBQ Lunch Provided</p>\n<p style='text-align: cen
 ter\;'>A light meeting agenda will follow</p>\n<p style='text-align: cente
 r\;'>Registration $20</p>\n<p style='text-align: center\;'>&nbsp\;Please <
 a href='https://www.iccpeninsula.org/123-news/latest-news/146-2022-tri-cha
 pter-meeting-picnic'>RSVP</a> by September 19<sup>th</sup>\, 2022</p>\n<p 
 style='text-align: center\;'>&nbsp\;</p>\n<p style='text-align: center\;'>
 Information on Higuera Adode Park:<br />A historic adobe house sits on thi
 s 5.5 acre park with 9 barbeque units\, 16 tables\, play equipment\, parki
 ng for 20\, and plenty of shade trees.</p>\n<p style='text-align: center\;
 '>VOLUNTEER TO SET UP\, PLEASE CONTACT:<br />John and Karen LaTorra at <jo
 omla-hidden-mail  is-link='1' is-email='1' first='anRsYXRvcnJh' last='Z21h
 aWwuY29t' text='anRsYXRvcnJhQGdtYWlsLmNvbQ==' base='' >This email address 
 is being protected from spambots. You need JavaScript enabled to view it.<
 /joomla-hidden-mail><br /><br /><br /></p>\n<p style='text-align: center\;
 '>&nbsp\;</p>
END:VEVENT
BEGIN:VEVENT
UID:20220927T083000PDT-6406E4NdHR@https://www.iccmontereybay.org/mmp_upgrad
 e/
DTSTAMP:20260423T224322Z
CATEGORIES:Training
DESCRIPTION:<p><a href='images/Meetings/Agenda/Training/2022_California_Ele
 ctrical_Code_Update.pdf'>2022 California Electrical Code Update</a></p>\n<
 p><a href='https://www.eventbrite.com/e/396956045217'>Register</a></p>
DTSTART;TZID=America/Los_Angeles:20220927T083000
DTEND;TZID=America/Los_Angeles:20220927T160000
SUMMARY:2022 California Electrical Code Updates
URL:https://iccmontereybay.org/index.php/calendar/23-default/26-training/52
 6-2022-california-electrical-code-updates
X-ALT-DESC;FMTTYPE=TEXT/HTML:<p><a href='images/Meetings/Agenda/Training/20
 22_California_Electrical_Code_Update.pdf'>2022 California Electrical Code 
 Update</a></p>\n<p><a href='https://www.eventbrite.com/e/396956045217'>Reg
 ister</a></p>
END:VEVENT
BEGIN:VEVENT
UID:20220927T083000PDT-8139H6GDv8@https://www.iccmontereybay.org/mmp_upgrad
 e/
DTSTAMP:20260423T224322Z
CATEGORIES:Training
DESCRIPTION:<p><a href='images/Meetings/Agenda/Training/2022_California_Ele
 ctrical_Code_Update.pdf'>2022 California Electrical Code Update</a></p>\n<
 p><a href='https://www.eventbrite.com/e/396961802437'>Register</a></p>
DTSTART;TZID=America/Los_Angeles:20220928T083000
DTEND;TZID=America/Los_Angeles:20220928T160000
SUMMARY:2022 California Electrical Code Updates (2)
URL:https://iccmontereybay.org/index.php/calendar/23-default/26-training/52
 7-2022-california-electrical-code-updates-2
X-ALT-DESC;FMTTYPE=TEXT/HTML:<p><a href='images/Meetings/Agenda/Training/20
 22_California_Electrical_Code_Update.pdf'>2022 California Electrical Code 
 Update</a></p>\n<p><a href='https://www.eventbrite.com/e/396961802437'>Reg
 ister</a></p>
END:VEVENT
BEGIN:VEVENT
UID:20220928T083000PDT-0173m1kSk8@https://www.iccmontereybay.org/mmp_upgrad
 e/
DTSTAMP:20260423T224322Z
CATEGORIES:Training
DESCRIPTION:<p><a href='images/Meetings/Agenda/Training/2022_California_Ele
 ctrical_Code_Update.pdf'>2022 California Electrical Code Update</a></p>\n<
 p><a href='https://www.eventbrite.com/e/396978331877'>Register</a></p>
DTSTART;TZID=America/Los_Angeles:20220929T083000
DTEND;TZID=America/Los_Angeles:20220929T160000
SUMMARY:2022 California Electrical Code Updates (3)
URL:https://iccmontereybay.org/index.php/calendar/23-default/26-training/52
 8-2022-california-electrical-code-updates-3
X-ALT-DESC;FMTTYPE=TEXT/HTML:<p><a href='images/Meetings/Agenda/Training/20
 22_California_Electrical_Code_Update.pdf'>2022 California Electrical Code 
 Update</a></p>\n<p><a href='https://www.eventbrite.com/e/396978331877'>Reg
 ister</a></p>
END:VEVENT
END:VCALENDAR
