BEGIN:VCALENDAR
VERSION:2.0
PRODID:-//https://iccmontereybay.org//NONSGML kigkonsult.se iCalcreator 2.41.71//
CALSCALE:GREGORIAN
METHOD:PUBLISH
UID:35613462-3238-4338-b137-333332326639
X-WR-CALNAME:JCal Pro Calendar
X-WR-CALDESC:Your online events calendar
X-WR-TIMEZONE:America/Los_Angeles
BEGIN:VTIMEZONE
TZID:America/Los_Angeles
TZUNTIL:20271107T090000Z
BEGIN:STANDARD
TZNAME:PST
DTSTART:20251102T020000
TZOFFSETFROM:-0700
TZOFFSETTO:-0800
RDATE:20261101T020000
END:STANDARD
BEGIN:DAYLIGHT
TZNAME:PDT
DTSTART:20260308T020000
TZOFFSETFROM:-0800
TZOFFSETTO:-0700
RDATE:20270314T020000
END:DAYLIGHT
END:VTIMEZONE
BEGIN:VEVENT
UID:20170515T163000UTC-e693bd@http://www.iccmontereybay.org/
DTSTAMP:20260423T174244Z
CATEGORIES:Training
DESCRIPTION:<p><a href='http://usi.pge.com/event-details?EventID=17448' tar
 get='_blank'>Air Sealing to Achieve Zero Net Energy - New Techniques and A
 pplications</a></p>\n<p><a href='https://pge.ungerboeck.com/prod/emc00/reg
 ister.aspx?OrgCode=10&amp\;EvtID=17448&amp\;AppCode=REG' target='_blank'>R
 egsiter</a></p>\n<p><span style='font-size: 12.16px\;'>Free PG&amp\;E Spon
 sored Class Coming to Santa Cruz</span></p>\n<p>Using real-world examples\
 , Building Professional and Consultant Terry Nordbye will give architects 
 and contractors an understanding of the importance of air sealing\, how to
  incorporate air sealing into building design\, and what materials and tec
 hniques work best to make a tighter building. You are sure to leave the ro
 om with a new and deeper understanding of how to air seal your next projec
 t.</p>\n<p> </p>
DTSTART;TZID=America/Los_Angeles:20170515T093000
DTEND;TZID=America/Los_Angeles:20170515T163000
SUMMARY:2017 Air Sealing to Achieve Zero Net Energy - New Techniques and Ap
 plications
URL:https://iccmontereybay.org/index.php/calendar/23-default/26-training/21
 2-2017-air-sealing-to-achieve-zero-net-energy
X-ALT-DESC;FMTTYPE=TEXT/HTML:<p><a href='http://usi.pge.com/event-details?E
 ventID=17448' target='_blank'>Air Sealing to Achieve Zero Net Energy - New
  Techniques and Applications</a></p>\n<p><a href='https://pge.ungerboeck.c
 om/prod/emc00/register.aspx?OrgCode=10&amp\;EvtID=17448&amp\;AppCode=REG' 
 target='_blank'>Regsiter</a></p>\n<p><span style='font-size: 12.16px\;'>Fr
 ee PG&amp\;E Sponsored Class Coming to Santa Cruz</span></p>\n<p>Using rea
 l-world examples\, Building Professional and Consultant Terry Nordbye will
  give architects and contractors an understanding of the importance of air
  sealing\, how to incorporate air sealing into building design\, and what 
 materials and techniques work best to make a tighter building. You are sur
 e to leave the room with a new and deeper understanding of how to air seal
  your next project.</p>\n<p> </p>
END:VEVENT
BEGIN:VEVENT
UID:20170518T150000UTC-633567@http://www.iccmontereybay.org/
DTSTAMP:20260423T174244Z
CATEGORIES:Training
DESCRIPTION:<h1><a class='doclink' href='index.php?option=com_docman&amp\;v
 iew=document&amp\;alias=101-2017-05-18-simpson-strongtie-back-to-basics-wo
 rkshop-palo-alto-flyer&amp\;category_slug=seminar-1&amp\;Itemid=9' style='
 font-family: Tahoma\, Helvetica\, Arial\, sans-serif\; font-size: 12.16px\
 ;'>2017 05 18 Simpson StrongTie Back to Basics Workshop Palo Alto Flyer</a
 ></h1>\n<h1><strong>Back to Basics Workshop</strong></h1>\n<p><strong>(Con
 nectors\, Fasteners\, Anchor &amp\; Lateral Systems Review)</strong></p>\n
 <p> </p>\n<h2><strong>Workshop Description</strong></h2>\n<p>This free wor
 kshop is focused on providing practical and relevant information pertainin
 g to proper connections and uses of Simpson Strong-Tie products for contin
 uous load path.</p>\n<p>We will discuss common construction practices\, co
 de information\, new products\, corrosion concerns\, and effective field a
 nd design solutions.</p>\n<p>The evolution of lateral systems will be demo
 nstrated through the many new products and solutions available such as the
  Strong-Wall® Wood and Steel Shearwalls\, and Strong Frame® Moment Frames.
 </p>\n<p>In addition to class discussion\, we will have hands-on demonstra
 tions of our fasteners and concrete anchor systems with structural solutio
 ns. This workshop is intended for all audiences.</p>\n<h2><strong><a href=
 'http://training.strongtie.com/stc/sstpub/psciis.dll?CLASSMENU=sstpub&amp\
 ;searchoption=FIELDS&amp\;fisDirectList=1&amp\;field0=hide&amp\;value0=No&
 amp\;field1=XOWNER&amp\;value1=20'>Registration</a>:</strong> To register 
 for this workshop online or to find more course listings\, please visit <a
  href='http://www.strongtie.com/workshops'>www.strongtie.com/workshops</a>
 .</h2>\n<p>For questions\, please call our toll free 800-999-5099 – Ext. 1
 055 or e-mail Greta Pulliam-Allen at <joomla-hidden-mail  is-link='1' is-e
 mail='1' first='Z3B1bGxpYW0tYWxsZW4=' last='c3Ryb25ndGllLmNvbQ==' text='Z3
 B1bGxpYW0tYWxsZW5Ac3Ryb25ndGllLmNvbQ==' base='' >This email address is bei
 ng protected from spambots. You need JavaScript enabled to view it.</jooml
 a-hidden-mail>.</p>
DTSTART;TZID=America/Los_Angeles:20170518T080000
DTEND;TZID=America/Los_Angeles:20170518T160000
SUMMARY:Simpson Strong-Tie Back to Basics Workshop
URL:https://iccmontereybay.org/index.php/calendar/23-default/26-training/21
 3-simpson-strong-tie-back-to-basics-workshop
X-ALT-DESC;FMTTYPE=TEXT/HTML:<h1><a class='doclink' href='index.php?option=
 com_docman&amp\;view=document&amp\;alias=101-2017-05-18-simpson-strongtie-
 back-to-basics-workshop-palo-alto-flyer&amp\;category_slug=seminar-1&amp\;
 Itemid=9' style='font-family: Tahoma\, Helvetica\, Arial\, sans-serif\; fo
 nt-size: 12.16px\;'>2017 05 18 Simpson StrongTie Back to Basics Workshop P
 alo Alto Flyer</a></h1>\n<h1><strong>Back to Basics Workshop</strong></h1>
 \n<p><strong>(Connectors\, Fasteners\, Anchor &amp\; Lateral Systems Revie
 w)</strong></p>\n<p> </p>\n<h2><strong>Workshop Description</strong></h2>
 \n<p>This free workshop is focused on providing practical and relevant inf
 ormation pertaining to proper connections and uses of Simpson Strong-Tie p
 roducts for continuous load path.</p>\n<p>We will discuss common construct
 ion practices\, code information\, new products\, corrosion concerns\, and
  effective field and design solutions.</p>\n<p>The evolution of lateral sy
 stems will be demonstrated through the many new products and solutions ava
 ilable such as the Strong-Wall® Wood and Steel Shearwalls\, and Strong Fra
 me® Moment Frames.</p>\n<p>In addition to class discussion\, we will have 
 hands-on demonstrations of our fasteners and concrete anchor systems with 
 structural solutions. This workshop is intended for all audiences.</p>\n<h
 2><strong><a href='http://training.strongtie.com/stc/sstpub/psciis.dll?CLA
 SSMENU=sstpub&amp\;searchoption=FIELDS&amp\;fisDirectList=1&amp\;field0=hi
 de&amp\;value0=No&amp\;field1=XOWNER&amp\;value1=20'>Registration</a>:</st
 rong> To register for this workshop online or to find more course listings
 \, please visit <a href='http://www.strongtie.com/workshops'>www.strongtie
 .com/workshops</a>.</h2>\n<p>For questions\, please call our toll free 800
 -999-5099 – Ext. 1055 or e-mail Greta Pulliam-Allen at <joomla-hidden-mail
   is-link='1' is-email='1' first='Z3B1bGxpYW0tYWxsZW4=' last='c3Ryb25ndGll
 LmNvbQ==' text='Z3B1bGxpYW0tYWxsZW5Ac3Ryb25ndGllLmNvbQ==' base='' >This em
 ail address is being protected from spambots. You need JavaScript enabled 
 to view it.</joomla-hidden-mail>.</p>
END:VEVENT
BEGIN:VEVENT
UID:20170216T183000UTC-eb7f1e@http://www.iccmontereybay.org/
DTSTAMP:20260423T174244Z
CATEGORIES:Meetings
DTSTART;TZID=America/Los_Angeles:20170216T103000
DTEND;TZID=America/Los_Angeles:20170216T113000
RRULE:FREQ=MONTHLY;UNTIL=20201231T080000Z;INTERVAL=1;BYDAY=TH;BYSETPOS=3
SUMMARY:ICC Monterey Bay Chapter meeting
URL:https://iccmontereybay.org/index.php/calendar/23-default/24-meetings/19
 3-icc-monterey-bay-chapter-meeting
END:VEVENT
END:VCALENDAR
