BEGIN:VCALENDAR
VERSION:2.0
PRODID:-//https://iccmontereybay.org//NONSGML kigkonsult.se iCalcreator 2.41.71//
CALSCALE:GREGORIAN
METHOD:PUBLISH
UID:65383936-3236-4833-b665-613533643863
X-WR-CALNAME:JCal Pro Calendar
X-WR-CALDESC:Your online events calendar
X-WR-TIMEZONE:America/Los_Angeles
BEGIN:VTIMEZONE
TZID:America/Los_Angeles
TZUNTIL:20271107T090000Z
BEGIN:STANDARD
TZNAME:PST
DTSTART:20251102T020000
TZOFFSETFROM:-0700
TZOFFSETTO:-0800
RDATE:20261101T020000
END:STANDARD
BEGIN:DAYLIGHT
TZNAME:PDT
DTSTART:20260308T020000
TZOFFSETFROM:-0800
TZOFFSETTO:-0700
RDATE:20270314T020000
END:DAYLIGHT
END:VTIMEZONE
BEGIN:VEVENT
UID:20220417T173000PDT-4974155otB@http://www.iccmontereybay.org/mmp_upgrade
 /
DTSTAMP:20260423T224402Z
CATEGORIES:Events
CATEGORIES:Meetings
DESCRIPTION:<p><a href='http://www.cboac.net/resources/documents/meetings/2
 04-2022-cboac-annual-conference-and-business-meeting-packet'>Invitation</a
 ></p>
DTSTART;TZID=America/Los_Angeles:20220417T173000
DTEND;TZID=America/Los_Angeles:20220421T093000
SUMMARY:CBOAC Annual Conference and Business Meeting
URL:https://iccmontereybay.org/index.php/calendar/23-default/25-events/488-
 cboac-annual-conference-and-business-meeting
X-ALT-DESC;FMTTYPE=TEXT/HTML:<p><a href='http://www.cboac.net/resources/doc
 uments/meetings/204-2022-cboac-annual-conference-and-business-meeting-pack
 et'>Invitation</a></p>
END:VEVENT
BEGIN:VEVENT
UID:20220217T100000PST-5802IpcPVI@http://www.iccmontereybay.org/mmp_upgrade
 /
DTSTAMP:20260423T224402Z
CATEGORIES:Meetings
DESCRIPTION:<p style='text-align: center\;'>Virtual Participants: Use the l
 ink below to login into the Virtual Chapter meeting (Zoom).<br />Here is t
 he zoom link for the monthly Monterey Chapter meetings to share with your 
 members:<br /><a href='https://zoom.us/j/95557755164'>https://zoom.us/j/95
 557755164</a><br />Monterey Bay Chapter ICC is inviting you to a scheduled
  Zoom meeting.<br />Meeting ID: 955 5775 5164<br />Passcode: 033042<br />Z
 oom is an option\, we will meet in person at the Marina Airport</p>\n<p>&n
 bsp\;</p>\n<p style='text-align: center\;'><a href='images/Meetings/Agenda
 /2022-04-21_ICC_MBC_Agenda.pdf'>Agenda</a></p>\n<p style='text-align: cent
 er\;'><a href='images/Meetings/Minutes/2022-04-21_MBCICC_Meeting_Minutes.p
 df'>Minutes</a></p>
DTSTART;TZID=America/Los_Angeles:20220421T100000
DTEND;TZID=America/Los_Angeles:20220421T120000
SUMMARY:ICC Monterey Bay Chapter meeting
URL:https://iccmontereybay.org/index.php/calendar/23-default/24-meetings/48
 7-icc-monterey-bay-chapter-meeting
X-ALT-DESC;FMTTYPE=TEXT/HTML:<p style='text-align: center\;'>Virtual Partic
 ipants: Use the link below to login into the Virtual Chapter meeting (Zoom
 ).<br />Here is the zoom link for the monthly Monterey Chapter meetings to
  share with your members:<br /><a href='https://zoom.us/j/95557755164'>htt
 ps://zoom.us/j/95557755164</a><br />Monterey Bay Chapter ICC is inviting y
 ou to a scheduled Zoom meeting.<br />Meeting ID: 955 5775 5164<br />Passco
 de: 033042<br />Zoom is an option\, we will meet in person at the Marina A
 irport</p>\n<p>&nbsp\;</p>\n<p style='text-align: center\;'><a href='image
 s/Meetings/Agenda/2022-04-21_ICC_MBC_Agenda.pdf'>Agenda</a></p>\n<p style=
 'text-align: center\;'><a href='images/Meetings/Minutes/2022-04-21_MBCICC_
 Meeting_Minutes.pdf'>Minutes</a></p>
END:VEVENT
END:VCALENDAR
