BEGIN:VCALENDAR
VERSION:2.0
PRODID:-//https://iccmontereybay.org//NONSGML kigkonsult.se iCalcreator 2.41.71//
CALSCALE:GREGORIAN
METHOD:PUBLISH
UID:38653266-3535-4632-a138-333865353463
X-WR-CALNAME:JCal Pro Calendar
X-WR-CALDESC:Your online events calendar
X-WR-TIMEZONE:America/Los_Angeles
BEGIN:VTIMEZONE
TZID:America/Monterrey
BEGIN:STANDARD
TZNAME:CST
DTSTART:20240721T061944
TZOFFSETFROM:+0000
TZOFFSETTO:-0600
END:STANDARD
END:VTIMEZONE
BEGIN:VTIMEZONE
TZID:America/Los_Angeles
TZUNTIL:20271107T090000Z
BEGIN:STANDARD
TZNAME:PST
DTSTART:20251102T020000
TZOFFSETFROM:-0700
TZOFFSETTO:-0800
RDATE:20261101T020000
END:STANDARD
BEGIN:DAYLIGHT
TZNAME:PDT
DTSTART:20260308T020000
TZOFFSETFROM:-0800
TZOFFSETTO:-0700
RDATE:20270314T020000
END:DAYLIGHT
END:VTIMEZONE
BEGIN:VEVENT
UID:20170320T133000UTC-948aa4@http://www.iccmontereybay.org/
DTSTAMP:20260422T061944Z
CATEGORIES:Events
CATEGORIES:Training
DESCRIPTION:<h2 style='box-sizing: border-box\; font-family: 'Times New Rom
 an'\, Times\, serif\; line-height: 1.1\; color: #6b222c\; margin-top: 0px\
 ; margin-bottom: 0px\; font-size: 37px\; border-bottom: 1px solid #c1b5ae\
 ; border-top: 3px solid #e7e3df\; text-shadow: #ffffff 0px 1px 0px\; paddi
 ng-bottom: 5px\; padding-left: 15px\;'>CALBO's 55th Annual Business Meetin
 g - <a href='http://www.calbo.org/abm/signupstep1.aspx' target='_blank'>On
 line Registration</a></h2>\n<p><a href='http://www.calbo.org/documents/201
 7CALBOABMRegistrationPackSingle.pdf' target='_blank' style='box-sizing: bo
 rder-box\; color: #c49a6c\; text-decoration: underline\; outline: 0px\; fo
 nt-family: Helvetica\, Arial\, Helvetica\, sans-serif\; font-size: 14px\;'
 > </a></p>
DTSTART;TZID=America/Monterrey:20170320T073000
DTEND;TZID=America/Monterrey:20170323T140000
SUMMARY:CALBO 55th ABM
URL:https://iccmontereybay.org/index.php/calendar/23-default/25-events/204-
 calbo-abm-55
X-ALT-DESC;FMTTYPE=TEXT/HTML:<h2 style='box-sizing: border-box\; font-famil
 y: 'Times New Roman'\, Times\, serif\; line-height: 1.1\; color: #6b222c\;
  margin-top: 0px\; margin-bottom: 0px\; font-size: 37px\; border-bottom: 1
 px solid #c1b5ae\; border-top: 3px solid #e7e3df\; text-shadow: #ffffff 0p
 x 1px 0px\; padding-bottom: 5px\; padding-left: 15px\;'>CALBO's 55th Annua
 l Business Meeting - <a href='http://www.calbo.org/abm/signupstep1.aspx' t
 arget='_blank'>Online Registration</a></h2>\n<p><a href='http://www.calbo.
 org/documents/2017CALBOABMRegistrationPackSingle.pdf' target='_blank' styl
 e='box-sizing: border-box\; color: #c49a6c\; text-decoration: underline\; 
 outline: 0px\; font-family: Helvetica\, Arial\, Helvetica\, sans-serif\; f
 ont-size: 14px\;'> </a></p>
END:VEVENT
END:VCALENDAR
