BEGIN:VCALENDAR
VERSION:2.0
PRODID:-//https://iccmontereybay.org//NONSGML kigkonsult.se iCalcreator 2.41.71//
CALSCALE:GREGORIAN
METHOD:PUBLISH
UID:64326633-6635-4464-a330-643537656132
X-WR-CALNAME:JCal Pro Calendar
X-WR-CALDESC:Your online events calendar
X-WR-TIMEZONE:America/Los_Angeles
BEGIN:VTIMEZONE
TZID:America/Los_Angeles
TZUNTIL:20271107T090000Z
BEGIN:STANDARD
TZNAME:PST
DTSTART:20251102T020000
TZOFFSETFROM:-0700
TZOFFSETTO:-0800
RDATE:20261101T020000
END:STANDARD
BEGIN:DAYLIGHT
TZNAME:PDT
DTSTART:20260308T020000
TZOFFSETFROM:-0800
TZOFFSETTO:-0700
RDATE:20270314T020000
END:DAYLIGHT
END:VTIMEZONE
BEGIN:VEVENT
UID:20200605T150000UTC-e20595@http://www.iccmontereybay.org/
DTSTAMP:20260423T223909Z
CATEGORIES:Meetings
CATEGORIES:Events
DESCRIPTION:<p><strong>2022 Tri-Chapter Meeting Tentative Agenda</strong></
 p>\n<p><strong>Friday\, June 3\, 2022</strong></p>\n<p>8:00&nbsp\;&nbsp\;&
 nbsp\;&nbsp\;&nbsp\;&nbsp\;&nbsp\;&nbsp\;&nbsp\;&nbsp\;&nbsp\;&nbsp\;&nbsp
 \;&nbsp\;&nbsp\;&nbsp\; <strong>Check-in</strong><em> – John Gervasoni and
  Homer Maiel</em></p>\n<p>8:25&nbsp\;&nbsp\;&nbsp\;&nbsp\;&nbsp\;&nbsp\;&n
 bsp\;&nbsp\;&nbsp\;&nbsp\;&nbsp\;&nbsp\;&nbsp\;&nbsp\;&nbsp\;&nbsp\; <stro
 ng>Welcome</strong> – <em>Rob Allen\, Marc Garcia\, and Geoff Simmons\, Ch
 apter Presidents</em></p>\n<p>8:30&nbsp\;&nbsp\;&nbsp\;&nbsp\;&nbsp\;&nbsp
 \;&nbsp\;&nbsp\;&nbsp\;&nbsp\;&nbsp\;&nbsp\;&nbsp\;&nbsp\;&nbsp\;&nbsp\; <
 strong>BSC Report </strong>– <em>Mia Marvelli\, Executive Director&nbsp\; 
 </em></p>\n<p>9:00&nbsp\; &nbsp\; &nbsp\; &nbsp\; &nbsp\; &nbsp\; &nbsp\; 
 &nbsp\;&nbsp\;<strong>SFM Report </strong>– <em>Greg Andersen\, Chief of C
 ode Development and Analysis </em></p>\n<p>9:25&nbsp\;&nbsp\;&nbsp\;&nbsp\
 ; <em> &nbsp\;&nbsp\;&nbsp\;&nbsp\;&nbsp\;&nbsp\;&nbsp\;&nbsp\;&nbsp\;&nbs
 p\; </em><strong>HCD Report </strong>– <em>Kyle Krause\, Assistant Deputy 
 Director\, Codes &amp\; Standards</em></p>\n<p>9:50&nbsp\;&nbsp\;&nbsp\;&n
 bsp\;&nbsp\;&nbsp\;&nbsp\;&nbsp\;&nbsp\;&nbsp\;&nbsp\;&nbsp\;&nbsp\;&nbsp\
 ;&nbsp\;&nbsp\; <strong>BREAK&nbsp\;&nbsp\; </strong></p>\n<p>10:05 &nbsp\
 ; &nbsp\;&nbsp\;&nbsp\;&nbsp\;&nbsp\;&nbsp\;&nbsp\;&nbsp\;&nbsp\;&nbsp\;&n
 bsp\; <strong>DSA</strong> <strong>Report </strong>– <em>Eric Driever\, Pr
 incipal Architect</em></p>\n<p>10:20&nbsp\;&nbsp\;&nbsp\;&nbsp\;&nbsp\;&nb
 sp\;&nbsp\;&nbsp\;&nbsp\;&nbsp\;&nbsp\;&nbsp\;&nbsp\;&nbsp\; <strong>HCAI 
 (formerly OSHPD) Report </strong><em>– Richard Tannahill\, Acting Deputy D
 ivision Chief</em></p>\n<p>10:35&nbsp\;&nbsp\;&nbsp\;&nbsp\;&nbsp\;&nbsp\;
 &nbsp\;&nbsp\;&nbsp\;&nbsp\;&nbsp\;&nbsp\;&nbsp\;&nbsp\; <strong>TUCC Reso
 urces for Code Adoption </strong><em>– Bret Wickham\, TUCC Chair and Fred 
 Cullum\, TUCC Secretary</em></p>\n<p>11:00&nbsp\;&nbsp\;&nbsp\;&nbsp\;&nbs
 p\;&nbsp\;&nbsp\;&nbsp\;&nbsp\;&nbsp\;&nbsp\;&nbsp\;&nbsp\;&nbsp\; <strong
 >ICC Report –</strong> <em>Stuart Tom\, Secretary/Treasurer and Susan Dowt
 y\, Government Relations</em></p>\n<p>11:30&nbsp\;&nbsp\;&nbsp\;&nbsp\;&nb
 sp\;&nbsp\;&nbsp\;&nbsp\;&nbsp\;&nbsp\;&nbsp\;&nbsp\;&nbsp\;&nbsp\; <stron
 g>LUNCH</strong></p>\n<p>12:15&nbsp\;&nbsp\; <strong>&nbsp\;&nbsp\;&nbsp\;
 &nbsp\;&nbsp\;&nbsp\;&nbsp\;&nbsp\;&nbsp\;&nbsp\;&nbsp\; IAPMO Report </st
 rong>– <em>David Gans\, IAPMO President&nbsp\; </em></p>\n<p>12:45<em>&nbs
 p\;&nbsp\;&nbsp\;&nbsp\;&nbsp\;&nbsp\;&nbsp\;&nbsp\;&nbsp\;&nbsp\;&nbsp\;&
 nbsp\;&nbsp\;&nbsp\; </em><strong>NFPA Report</strong> – <em>Ray Bizal\, R
 egional Director&nbsp\;&nbsp\; </em></p>\n<p>1:15&nbsp\;&nbsp\;&nbsp\;&nbs
 p\;&nbsp\;&nbsp\;&nbsp\;&nbsp\;&nbsp\;&nbsp\;&nbsp\;&nbsp\;&nbsp\;&nbsp\;&
 nbsp\;&nbsp\; <strong>ICC Region I Report</strong> – <em>Sam Palmer\, Pres
 ident</em></p>\n<p><strong>&nbsp\; &nbsp\; &nbsp\; &nbsp\; &nbsp\; &nbsp\;
  &nbsp\; &nbsp\; &nbsp\; &nbsp\; &nbsp\; &nbsp\; CBOAC Report – </strong><
 em>Martin Heaney\, Secretary</em></p>\n<p><strong>&nbsp\; &nbsp\; &nbsp\; 
 &nbsp\; &nbsp\; &nbsp\; &nbsp\; &nbsp\; &nbsp\; &nbsp\; &nbsp\; &nbsp\; CA
 LBO and Legislative Report – </strong><em>David Gonzaleves\, CALBO Preside
 nt&nbsp\; </em></p>\n<p>2:00&nbsp\;&nbsp\;&nbsp\;&nbsp\;&nbsp\;&nbsp\;&nbs
 p\;&nbsp\;&nbsp\;&nbsp\;&nbsp\;&nbsp\;&nbsp\;&nbsp\;&nbsp\;&nbsp\; <strong
 >BREAK</strong></p>\n<p>2:15&nbsp\;&nbsp\;&nbsp\;&nbsp\;&nbsp\;&nbsp\;&nbs
 p\;&nbsp\;&nbsp\;&nbsp\;&nbsp\;&nbsp\;&nbsp\;&nbsp\;&nbsp\;&nbsp\; <strong
 >SEAC Report </strong><em>– John Taecker\, Vice Chair</em></p>\n<p><strong
 >&nbsp\; &nbsp\; &nbsp\; &nbsp\; &nbsp\; &nbsp\; &nbsp\; &nbsp\; &nbsp\; &
 nbsp\; &nbsp\; &nbsp\; IAEI NorCal Chapter Report </strong>– <em>John Taec
 ker\, Past President&nbsp\; </em></p>\n<p><strong>&nbsp\; &nbsp\; &nbsp\; 
 &nbsp\; &nbsp\; &nbsp\; &nbsp\; &nbsp\; &nbsp\; &nbsp\; &nbsp\; &nbsp\; No
 rCal FPO Report </strong>– <em>Ian Hardage\, President&nbsp\;&nbsp\;&nbsp\
 ; </em></p>\n<p><strong>&nbsp\; &nbsp\; &nbsp\; &nbsp\; &nbsp\; &nbsp\; &n
 bsp\; &nbsp\; &nbsp\; &nbsp\; &nbsp\; &nbsp\; IAPMO Central California Cha
 pter Report – </strong><em>Kyle Shea</em><em>\, President&nbsp\; </em></p>
 \n<p>3:15&nbsp\; &nbsp\; &nbsp\; &nbsp\; &nbsp\; &nbsp\; &nbsp\; &nbsp\;&n
 bsp\;<strong>Tri-Chapter Education Committee Report</strong> – <em>John Ta
 ecker\, Education Chair&nbsp\; </em></p>\n<p><strong>&nbsp\; &nbsp\; &nbsp
 \; &nbsp\; &nbsp\; &nbsp\; &nbsp\; &nbsp\; &nbsp\; &nbsp\; &nbsp\; &nbsp\;
 Tri-Chapter Code Development Committee Report</strong> – <em>Homer Maiel\,
  Code Development Chair</em></p>\n<p>3:30&nbsp\;&nbsp\;&nbsp\;&nbsp\;&nbsp
 \;&nbsp\;&nbsp\;&nbsp\;&nbsp\;&nbsp\;&nbsp\;&nbsp\;&nbsp\;&nbsp\;&nbsp\;&n
 bsp\;<strong>Raffles and Adjournment</strong></p>\n<p>&nbsp\;&nbsp\;&nbsp\
 ;&nbsp\;&nbsp\;&nbsp\;&nbsp\;&nbsp\;&nbsp\;&nbsp\;&nbsp\;&nbsp\;&nbsp\;&nb
 sp\;&nbsp\;&nbsp\;&nbsp\;&nbsp\;&nbsp\;&nbsp\;&nbsp\;&nbsp\;&nbsp\;<strong
 >Reception following the event</strong> - hosted by John and Karen LaTorra
 </p>\n<p>&nbsp\;&nbsp\;&nbsp\;&nbsp\;&nbsp\;&nbsp\;&nbsp\;&nbsp\;&nbsp\;&n
 bsp\;&nbsp\;&nbsp\;&nbsp\;&nbsp\;&nbsp\;&nbsp\;&nbsp\;&nbsp\;&nbsp\;&nbsp\
 ;&nbsp\;&nbsp\;&nbsp\;<strong>RSVP to John LaTorra (</strong><a href='mail
 to:jtlattorra@gmail.com'></a><strong><joomla-hidden-mail  is-link='1' is-e
 mail='1' first='anRsYXR0b3JyYQ==' last='Z21haWwuY29t' text='anRsYXR0b3JyYU
 BnbWFpbC5jb20=' base='' >This email address is being protected from spambo
 ts. You need JavaScript enabled to view it.</joomla-hidden-mail></strong><
 strong>) </strong></p>\n<p><strong>PLEASE REGISTER AT </strong><a href='ht
 tps://www.eventbrite.com/e/tri-chapter-annual-meeting-tickets-97469226079'
 ><strong>www.iccpeninsula.org</strong></a></p>
DTSTART;TZID=America/Los_Angeles:20220603T083000
DTEND;TZID=America/Los_Angeles:20220603T153000
SUMMARY:ICC Tri-Chapter Annual Business Meeting
URL:https://iccmontereybay.org/index.php/calendar/23-default/24-meetings/39
 4-2022-tri-chapter-abm
X-ALT-DESC;FMTTYPE=TEXT/HTML:<p><strong>2022 Tri-Chapter Meeting Tentative 
 Agenda</strong></p>\n<p><strong>Friday\, June 3\, 2022</strong></p>\n<p>8:
 00&nbsp\;&nbsp\;&nbsp\;&nbsp\;&nbsp\;&nbsp\;&nbsp\;&nbsp\;&nbsp\;&nbsp\;&n
 bsp\;&nbsp\;&nbsp\;&nbsp\;&nbsp\;&nbsp\; <strong>Check-in</strong><em> – J
 ohn Gervasoni and Homer Maiel</em></p>\n<p>8:25&nbsp\;&nbsp\;&nbsp\;&nbsp\
 ;&nbsp\;&nbsp\;&nbsp\;&nbsp\;&nbsp\;&nbsp\;&nbsp\;&nbsp\;&nbsp\;&nbsp\;&nb
 sp\;&nbsp\; <strong>Welcome</strong> – <em>Rob Allen\, Marc Garcia\, and G
 eoff Simmons\, Chapter Presidents</em></p>\n<p>8:30&nbsp\;&nbsp\;&nbsp\;&n
 bsp\;&nbsp\;&nbsp\;&nbsp\;&nbsp\;&nbsp\;&nbsp\;&nbsp\;&nbsp\;&nbsp\;&nbsp\
 ;&nbsp\;&nbsp\; <strong>BSC Report </strong>– <em>Mia Marvelli\, Executive
  Director&nbsp\; </em></p>\n<p>9:00&nbsp\; &nbsp\; &nbsp\; &nbsp\; &nbsp\;
  &nbsp\; &nbsp\; &nbsp\;&nbsp\;<strong>SFM Report </strong>– <em>Greg Ande
 rsen\, Chief of Code Development and Analysis </em></p>\n<p>9:25&nbsp\;&nb
 sp\;&nbsp\;&nbsp\; <em> &nbsp\;&nbsp\;&nbsp\;&nbsp\;&nbsp\;&nbsp\;&nbsp\;&
 nbsp\;&nbsp\;&nbsp\; </em><strong>HCD Report </strong>– <em>Kyle Krause\, 
 Assistant Deputy Director\, Codes &amp\; Standards</em></p>\n<p>9:50&nbsp\
 ;&nbsp\;&nbsp\;&nbsp\;&nbsp\;&nbsp\;&nbsp\;&nbsp\;&nbsp\;&nbsp\;&nbsp\;&nb
 sp\;&nbsp\;&nbsp\;&nbsp\;&nbsp\; <strong>BREAK&nbsp\;&nbsp\; </strong></p>
 \n<p>10:05 &nbsp\; &nbsp\;&nbsp\;&nbsp\;&nbsp\;&nbsp\;&nbsp\;&nbsp\;&nbsp\
 ;&nbsp\;&nbsp\;&nbsp\; <strong>DSA</strong> <strong>Report </strong>– <em>
 Eric Driever\, Principal Architect</em></p>\n<p>10:20&nbsp\;&nbsp\;&nbsp\;
 &nbsp\;&nbsp\;&nbsp\;&nbsp\;&nbsp\;&nbsp\;&nbsp\;&nbsp\;&nbsp\;&nbsp\;&nbs
 p\; <strong>HCAI (formerly OSHPD) Report </strong><em>– Richard Tannahill\
 , Acting Deputy Division Chief</em></p>\n<p>10:35&nbsp\;&nbsp\;&nbsp\;&nbs
 p\;&nbsp\;&nbsp\;&nbsp\;&nbsp\;&nbsp\;&nbsp\;&nbsp\;&nbsp\;&nbsp\;&nbsp\; 
 <strong>TUCC Resources for Code Adoption </strong><em>– Bret Wickham\, TUC
 C Chair and Fred Cullum\, TUCC Secretary</em></p>\n<p>11:00&nbsp\;&nbsp\;&
 nbsp\;&nbsp\;&nbsp\;&nbsp\;&nbsp\;&nbsp\;&nbsp\;&nbsp\;&nbsp\;&nbsp\;&nbsp
 \;&nbsp\; <strong>ICC Report –</strong> <em>Stuart Tom\, Secretary/Treasur
 er and Susan Dowty\, Government Relations</em></p>\n<p>11:30&nbsp\;&nbsp\;
 &nbsp\;&nbsp\;&nbsp\;&nbsp\;&nbsp\;&nbsp\;&nbsp\;&nbsp\;&nbsp\;&nbsp\;&nbs
 p\;&nbsp\; <strong>LUNCH</strong></p>\n<p>12:15&nbsp\;&nbsp\; <strong>&nbs
 p\;&nbsp\;&nbsp\;&nbsp\;&nbsp\;&nbsp\;&nbsp\;&nbsp\;&nbsp\;&nbsp\;&nbsp\; 
 IAPMO Report </strong>– <em>David Gans\, IAPMO President&nbsp\; </em></p>
 \n<p>12:45<em>&nbsp\;&nbsp\;&nbsp\;&nbsp\;&nbsp\;&nbsp\;&nbsp\;&nbsp\;&nbs
 p\;&nbsp\;&nbsp\;&nbsp\;&nbsp\;&nbsp\; </em><strong>NFPA Report</strong> –
  <em>Ray Bizal\, Regional Director&nbsp\;&nbsp\; </em></p>\n<p>1:15&nbsp\;
 &nbsp\;&nbsp\;&nbsp\;&nbsp\;&nbsp\;&nbsp\;&nbsp\;&nbsp\;&nbsp\;&nbsp\;&nbs
 p\;&nbsp\;&nbsp\;&nbsp\;&nbsp\; <strong>ICC Region I Report</strong> – <em
 >Sam Palmer\, President</em></p>\n<p><strong>&nbsp\; &nbsp\; &nbsp\; &nbsp
 \; &nbsp\; &nbsp\; &nbsp\; &nbsp\; &nbsp\; &nbsp\; &nbsp\; &nbsp\; CBOAC R
 eport – </strong><em>Martin Heaney\, Secretary</em></p>\n<p><strong>&nbsp\
 ; &nbsp\; &nbsp\; &nbsp\; &nbsp\; &nbsp\; &nbsp\; &nbsp\; &nbsp\; &nbsp\; 
 &nbsp\; &nbsp\; CALBO and Legislative Report – </strong><em>David Gonzalev
 es\, CALBO President&nbsp\; </em></p>\n<p>2:00&nbsp\;&nbsp\;&nbsp\;&nbsp\;
 &nbsp\;&nbsp\;&nbsp\;&nbsp\;&nbsp\;&nbsp\;&nbsp\;&nbsp\;&nbsp\;&nbsp\;&nbs
 p\;&nbsp\; <strong>BREAK</strong></p>\n<p>2:15&nbsp\;&nbsp\;&nbsp\;&nbsp\;
 &nbsp\;&nbsp\;&nbsp\;&nbsp\;&nbsp\;&nbsp\;&nbsp\;&nbsp\;&nbsp\;&nbsp\;&nbs
 p\;&nbsp\; <strong>SEAC Report </strong><em>– John Taecker\, Vice Chair</e
 m></p>\n<p><strong>&nbsp\; &nbsp\; &nbsp\; &nbsp\; &nbsp\; &nbsp\; &nbsp\;
  &nbsp\; &nbsp\; &nbsp\; &nbsp\; &nbsp\; IAEI NorCal Chapter Report </stro
 ng>– <em>John Taecker\, Past President&nbsp\; </em></p>\n<p><strong>&nbsp\
 ; &nbsp\; &nbsp\; &nbsp\; &nbsp\; &nbsp\; &nbsp\; &nbsp\; &nbsp\; &nbsp\; 
 &nbsp\; &nbsp\; NorCal FPO Report </strong>– <em>Ian Hardage\, President&n
 bsp\;&nbsp\;&nbsp\; </em></p>\n<p><strong>&nbsp\; &nbsp\; &nbsp\; &nbsp\; 
 &nbsp\; &nbsp\; &nbsp\; &nbsp\; &nbsp\; &nbsp\; &nbsp\; &nbsp\; IAPMO Cent
 ral California Chapter Report – </strong><em>Kyle Shea</em><em>\, Presiden
 t&nbsp\; </em></p>\n<p>3:15&nbsp\; &nbsp\; &nbsp\; &nbsp\; &nbsp\; &nbsp\;
  &nbsp\; &nbsp\;&nbsp\;<strong>Tri-Chapter Education Committee Report</str
 ong> – <em>John Taecker\, Education Chair&nbsp\; </em></p>\n<p><strong>&nb
 sp\; &nbsp\; &nbsp\; &nbsp\; &nbsp\; &nbsp\; &nbsp\; &nbsp\; &nbsp\; &nbsp
 \; &nbsp\; &nbsp\;Tri-Chapter Code Development Committee Report</strong> –
  <em>Homer Maiel\, Code Development Chair</em></p>\n<p>3:30&nbsp\;&nbsp\;&
 nbsp\;&nbsp\;&nbsp\;&nbsp\;&nbsp\;&nbsp\;&nbsp\;&nbsp\;&nbsp\;&nbsp\;&nbsp
 \;&nbsp\;&nbsp\;&nbsp\;<strong>Raffles and Adjournment</strong></p>\n<p>&n
 bsp\;&nbsp\;&nbsp\;&nbsp\;&nbsp\;&nbsp\;&nbsp\;&nbsp\;&nbsp\;&nbsp\;&nbsp\
 ;&nbsp\;&nbsp\;&nbsp\;&nbsp\;&nbsp\;&nbsp\;&nbsp\;&nbsp\;&nbsp\;&nbsp\;&nb
 sp\;&nbsp\;<strong>Reception following the event</strong> - hosted by John
  and Karen LaTorra</p>\n<p>&nbsp\;&nbsp\;&nbsp\;&nbsp\;&nbsp\;&nbsp\;&nbsp
 \;&nbsp\;&nbsp\;&nbsp\;&nbsp\;&nbsp\;&nbsp\;&nbsp\;&nbsp\;&nbsp\;&nbsp\;&n
 bsp\;&nbsp\;&nbsp\;&nbsp\;&nbsp\;&nbsp\;<strong>RSVP to John LaTorra (</st
 rong><a href='mailto:jtlattorra@gmail.com'></a><strong><joomla-hidden-mail
   is-link='1' is-email='1' first='anRsYXR0b3JyYQ==' last='Z21haWwuY29t' te
 xt='anRsYXR0b3JyYUBnbWFpbC5jb20=' base='' >This email address is being pro
 tected from spambots. You need JavaScript enabled to view it.</joomla-hidd
 en-mail></strong><strong>) </strong></p>\n<p><strong>PLEASE REGISTER AT </
 strong><a href='https://www.eventbrite.com/e/tri-chapter-annual-meeting-ti
 ckets-97469226079'><strong>www.iccpeninsula.org</strong></a></p>
END:VEVENT
BEGIN:VEVENT
UID:20210309T083000PST-8898xPWM2A@http://www.iccmontereybay.org/mmp_upgrade
 /
DTSTAMP:20260423T223909Z
CATEGORIES:Meetings
DESCRIPTION:<p style='font-weight: 300\;'><strong>Join Zoom Meeting</strong
 ></p>\n<p style='font-weight: 300\;'><a href='https://zoom.us/j/9555775516
 4'>https://zoom.us/j/95557755164</a></p>\n<p style='font-weight: 300\;'>Me
 eting ID: <a href='tel:955 5775 5164'>955 5775 5164</a></p>\n<p style='fon
 t-weight: 300\;'>Passcode: 033042</p>\n<p style='font-weight: 300\;'>One t
 ap mobile</p>\n<p style='font-weight: 300\;'><a href='tel:+16699006833'>+1
 6699006833</a>\,\,95557755164#\,\,\,\,*033042# US (San Jose)</p>\n<p style
 ='font-weight: 300\;'><a href='tel:+12532158782'>+12532158782</a>\,\,95557
 755164#\,\,\,\,*033042# US (Tacoma)</p>\n<p style='font-weight: 300\;'>&nb
 sp\;Dial by your location</p>\n<p style='font-weight: 300\;'>&nbsp\;&nbsp\
 ;&nbsp\;&nbsp\;&nbsp\;&nbsp\;&nbsp\; <a href='tel:+1 669 900 6833'>+1 669 
 900 6833</a> US (San Jose)</p>\n<p style='font-weight: 300\;'>&nbsp\;&nbsp
 \;&nbsp\;&nbsp\;&nbsp\;&nbsp\;&nbsp\; <a href='tel:+1 253 215 8782'>+1 253
  215 8782</a> US (Tacoma)</p>\n<p style='font-weight: 300\;'>&nbsp\;&nbsp\
 ;&nbsp\;&nbsp\;&nbsp\;&nbsp\;&nbsp\; <a href='tel:+1 346 248 7799'>+1 346 
 248 7799</a> US (Houston)</p>\n<p style='font-weight: 300\;'>&nbsp\;&nbsp\
 ;&nbsp\;&nbsp\;&nbsp\;&nbsp\;&nbsp\; <a href='tel:+1 312 626 6799'>+1 312 
 626 6799</a> US (Chicago)</p>\n<p style='font-weight: 300\;'>&nbsp\;&nbsp\
 ;&nbsp\;&nbsp\;&nbsp\;&nbsp\;&nbsp\; <a href='tel:+1 929 205 6099'>+1 929 
 205 6099</a> US (New York)</p>\n<p style='font-weight: 300\;'>&nbsp\;&nbsp
 \;&nbsp\;&nbsp\;&nbsp\;&nbsp\;&nbsp\; <a href='tel:+1 301 715 8592'>+1 301
  715 8592</a> US (Washington DC)</p>\n<p style='font-weight: 300\;'>&nbsp\
 ;</p>\n<p style='font-weight: 300\;'>Find your local number: <a href='http
 s://zoom.us/u/aEpZJa7Jp'>https://zoom.us/u/aEpZJa7Jp</a></p>
DTSTART;TZID=America/Los_Angeles:20210309T090000
DTEND;TZID=America/Los_Angeles:20210309T110000
RRULE:FREQ=MONTHLY;UNTIL=20221213T080000Z;INTERVAL=1;BYDAY=TU;BYSETPOS=2
SUMMARY:Tri-Chapter ICC Meeting
URL:https://iccmontereybay.org/index.php/calendar/23-default/24-meetings/39
 6-tri-chapter-icc-meeting
X-ALT-DESC;FMTTYPE=TEXT/HTML:<p style='font-weight: 300\;'><strong>Join Zoo
 m Meeting</strong></p>\n<p style='font-weight: 300\;'><a href='https://zoo
 m.us/j/95557755164'>https://zoom.us/j/95557755164</a></p>\n<p style='font-
 weight: 300\;'>Meeting ID: <a href='tel:955 5775 5164'>955 5775 5164</a></
 p>\n<p style='font-weight: 300\;'>Passcode: 033042</p>\n<p style='font-wei
 ght: 300\;'>One tap mobile</p>\n<p style='font-weight: 300\;'><a href='tel
 :+16699006833'>+16699006833</a>\,\,95557755164#\,\,\,\,*033042# US (San Jo
 se)</p>\n<p style='font-weight: 300\;'><a href='tel:+12532158782'>+1253215
 8782</a>\,\,95557755164#\,\,\,\,*033042# US (Tacoma)</p>\n<p style='font-w
 eight: 300\;'>&nbsp\;Dial by your location</p>\n<p style='font-weight: 300
 \;'>&nbsp\;&nbsp\;&nbsp\;&nbsp\;&nbsp\;&nbsp\;&nbsp\; <a href='tel:+1 669 
 900 6833'>+1 669 900 6833</a> US (San Jose)</p>\n<p style='font-weight: 30
 0\;'>&nbsp\;&nbsp\;&nbsp\;&nbsp\;&nbsp\;&nbsp\;&nbsp\; <a href='tel:+1 253
  215 8782'>+1 253 215 8782</a> US (Tacoma)</p>\n<p style='font-weight: 300
 \;'>&nbsp\;&nbsp\;&nbsp\;&nbsp\;&nbsp\;&nbsp\;&nbsp\; <a href='tel:+1 346 
 248 7799'>+1 346 248 7799</a> US (Houston)</p>\n<p style='font-weight: 300
 \;'>&nbsp\;&nbsp\;&nbsp\;&nbsp\;&nbsp\;&nbsp\;&nbsp\; <a href='tel:+1 312 
 626 6799'>+1 312 626 6799</a> US (Chicago)</p>\n<p style='font-weight: 300
 \;'>&nbsp\;&nbsp\;&nbsp\;&nbsp\;&nbsp\;&nbsp\;&nbsp\; <a href='tel:+1 929 
 205 6099'>+1 929 205 6099</a> US (New York)</p>\n<p style='font-weight: 30
 0\;'>&nbsp\;&nbsp\;&nbsp\;&nbsp\;&nbsp\;&nbsp\;&nbsp\; <a href='tel:+1 301
  715 8592'>+1 301 715 8592</a> US (Washington DC)</p>\n<p style='font-weig
 ht: 300\;'>&nbsp\;</p>\n<p style='font-weight: 300\;'>Find your local numb
 er: <a href='https://zoom.us/u/aEpZJa7Jp'>https://zoom.us/u/aEpZJa7Jp</a><
 /p>
END:VEVENT
BEGIN:VEVENT
UID:20220519T100000PDT-4674ZuXkpU@http://www.iccmontereybay.org/mmp_upgrade
 /
DTSTAMP:20260423T223909Z
CATEGORIES:Meetings
DESCRIPTION:<p style='text-align: center\;'>Virtual Participants: Use the l
 ink below to login into the Virtual Chapter meeting (Zoom).<br />Here is t
 he zoom link for the monthly Monterey Chapter meetings to share with your 
 members:<br /><a href='https://zoom.us/j/95557755164'>https://zoom.us/j/95
 557755164</a><br />Monterey Bay Chapter ICC is inviting you to a scheduled
  Zoom meeting.<br />Meeting ID: 955 5775 5164<br />Passcode: 033042<br />Z
 oom is an option\, we will meet in person at the Marina Airport</p>\n<p>&n
 bsp\;</p>\n<p style='text-align: center\;'>&nbsp\;</p>
DTSTART;TZID=America/Los_Angeles:20220616T100000
DTEND;TZID=America/Los_Angeles:20220616T120000
SUMMARY:ICC Monterey Bay Chapter meeting
URL:https://iccmontereybay.org/index.php/calendar/23-default/24-meetings/49
 0-icc-monterey-bay-chapter-meeting-2022
X-ALT-DESC;FMTTYPE=TEXT/HTML:<p style='text-align: center\;'>Virtual Partic
 ipants: Use the link below to login into the Virtual Chapter meeting (Zoom
 ).<br />Here is the zoom link for the monthly Monterey Chapter meetings to
  share with your members:<br /><a href='https://zoom.us/j/95557755164'>htt
 ps://zoom.us/j/95557755164</a><br />Monterey Bay Chapter ICC is inviting y
 ou to a scheduled Zoom meeting.<br />Meeting ID: 955 5775 5164<br />Passco
 de: 033042<br />Zoom is an option\, we will meet in person at the Marina A
 irport</p>\n<p>&nbsp\;</p>\n<p style='text-align: center\;'>&nbsp\;</p>
END:VEVENT
END:VCALENDAR
