BEGIN:VCALENDAR
VERSION:2.0
PRODID:-//https://iccmontereybay.org//NONSGML kigkonsult.se iCalcreator 2.41.71//
CALSCALE:GREGORIAN
METHOD:PUBLISH
UID:37656433-3835-4564-a130-623538633531
X-WR-CALNAME:JCal Pro Calendar
X-WR-CALDESC:Your online events calendar
X-WR-TIMEZONE:America/Los_Angeles
BEGIN:VTIMEZONE
TZID:America/Los_Angeles
TZUNTIL:20271107T090000Z
BEGIN:STANDARD
TZNAME:PST
DTSTART:20251102T020000
TZOFFSETFROM:-0700
TZOFFSETTO:-0800
RDATE:20261101T020000
END:STANDARD
BEGIN:DAYLIGHT
TZNAME:PDT
DTSTART:20260308T020000
TZOFFSETFROM:-0800
TZOFFSETTO:-0700
RDATE:20270314T020000
END:DAYLIGHT
END:VTIMEZONE
BEGIN:VEVENT
UID:20220927T083000PDT-527269wXz8@https://www.iccmontereybay.org/mmp_upgrad
 e/
DTSTAMP:20260423T235325Z
CATEGORIES:Training
DESCRIPTION:<p><a href='images/Meetings/Agenda/Training/2022_California_Bui
 lding_Code_Update.pdf'>2022 California Building Code Update</a></p>\n<p><a
  href='https://www.eventbrite.com/e/396986656777'>Register</a></p>
DTSTART;TZID=America/Los_Angeles:20221018T083000
DTEND;TZID=America/Los_Angeles:20221018T160000
SUMMARY:2022 California Building Code Updates
URL:https://iccmontereybay.org/index.php/calendar/23-default/26-training/52
 9-2022-california-building-code-updates
X-ALT-DESC;FMTTYPE=TEXT/HTML:<p><a href='images/Meetings/Agenda/Training/20
 22_California_Building_Code_Update.pdf'>2022 California Building Code Upda
 te</a></p>\n<p><a href='https://www.eventbrite.com/e/396986656777'>Registe
 r</a></p>
END:VEVENT
END:VCALENDAR
