BEGIN:VCALENDAR
VERSION:2.0
PRODID:-//https://iccmontereybay.org//NONSGML kigkonsult.se iCalcreator 2.41.71//
CALSCALE:GREGORIAN
METHOD:PUBLISH
UID:37626462-6137-4331-b937-386236643737
X-WR-CALNAME:JCal Pro Calendar
X-WR-CALDESC:Your online events calendar
X-WR-TIMEZONE:America/Los_Angeles
BEGIN:VTIMEZONE
TZID:America/Los_Angeles
TZUNTIL:20271107T090000Z
BEGIN:STANDARD
TZNAME:PST
DTSTART:20251102T020000
TZOFFSETFROM:-0700
TZOFFSETTO:-0800
RDATE:20261101T020000
END:STANDARD
BEGIN:DAYLIGHT
TZNAME:PDT
DTSTART:20260308T020000
TZOFFSETFROM:-0800
TZOFFSETTO:-0700
RDATE:20270314T020000
END:DAYLIGHT
END:VTIMEZONE
BEGIN:VEVENT
UID:20211021T100000PDT-9421P6sxV7@http://www.iccmontereybay.org/mmp_upgrade
 /
DTSTAMP:20260423T235345Z
CATEGORIES:Meetings
DESCRIPTION:<p><strong>Please save the date</strong></p>\n<p>We will be hav
 ing our first in-person/hybrid chapter meeting at the Airport Administrati
 on conference room located at 781 Neeson Road\, Marina\, CA 93933.</p>\n<p
 >The meeting agenda will be sent early next week with a ZOOM meeting link 
 for those who can’t attend in person.</p>\n<p>Please RSVP if you plan on a
 ttending in person so we can get a headcount for lunch.&nbsp\;<i><span sty
 le='text-decoration: underline\;'>Lunch will be served at noon.</span></i>
 </p>\n<p><em><b><span style='text-decoration: underline\;'>We will be foll
 owing Monterey County vaccine and mask requirements.</span></b></em></p>
DTSTART;TZID=America/Los_Angeles:20211021T100000
DTEND;TZID=America/Los_Angeles:20211021T120000
SUMMARY:ICC Monterey Bay Chapter meeting
URL:https://iccmontereybay.org/index.php/calendar/23-default/24-meetings/42
 0-icc-monterey-bay-chapter-meeting-2
X-ALT-DESC;FMTTYPE=TEXT/HTML:<p><strong>Please save the date</strong></p>\n
 <p>We will be having our first in-person/hybrid chapter meeting at the Air
 port Administration conference room located at 781 Neeson Road\, Marina\, 
 CA 93933.</p>\n<p>The meeting agenda will be sent early next week with a Z
 OOM meeting link for those who can’t attend in person.</p>\n<p>Please RSVP
  if you plan on attending in person so we can get a headcount for lunch.&n
 bsp\;<i><span style='text-decoration: underline\;'>Lunch will be served at
  noon.</span></i></p>\n<p><em><b><span style='text-decoration: underline\;
 '>We will be following Monterey County vaccine and mask requirements.</spa
 n></b></em></p>
END:VEVENT
END:VCALENDAR
