BEGIN:VCALENDAR
VERSION:2.0
PRODID:-//https://iccmontereybay.org//NONSGML kigkonsult.se iCalcreator 2.41.71//
CALSCALE:GREGORIAN
METHOD:PUBLISH
UID:38666439-6637-4735-b536-626262353732
X-WR-CALNAME:JCal Pro Calendar
X-WR-CALDESC:Your online events calendar
X-WR-TIMEZONE:America/Los_Angeles
BEGIN:VTIMEZONE
TZID:America/Los_Angeles
TZUNTIL:20271107T090000Z
BEGIN:STANDARD
TZNAME:PST
DTSTART:20251102T020000
TZOFFSETFROM:-0700
TZOFFSETTO:-0800
RDATE:20261101T020000
END:STANDARD
BEGIN:DAYLIGHT
TZNAME:PDT
DTSTART:20260308T020000
TZOFFSETFROM:-0800
TZOFFSETTO:-0700
RDATE:20270314T020000
END:DAYLIGHT
END:VTIMEZONE
BEGIN:VEVENT
UID:20180914T183000UTC-27c4ef@http://www.iccmontereybay.org/
DTSTAMP:20260423T190033Z
CATEGORIES:Events
DESCRIPTION:<p style='text-align: center\;'><strong>Tri Chapter Picnic</str
 ong></p>\n<p style='text-align: center\;'><strong>Higuera Adobe Park\, 679
 -715 Wessex Pl. Milpitas\, CA  95035</strong></p>\n<p style='text-align: c
 enter\;'><strong>Friday\, September 14th\, 2018</strong><br /><strong>11:3
 0 A.M. – 3:00 P.M.</strong></p>\n<p style='text-align: center\;'>BBQ Lunch
  Provided</p>\n<p style='text-align: center\;'>A light meeting agenda will
  follow</p>\n<p style='text-align: center\;'>Registration $TBD</p>\n<p sty
 le='text-align: center\;'> </p>\n<p style='text-align: center\;'> </p>\n<p
  style='text-align: center\;'>Information on Higuera Adode Park:<br />A hi
 storic adobe house sits on this 5.5 acre park with 9 barbeque units\, 16 t
 ables\, play equipment\, parking for 20\, and plenty of shade trees.</p>\n
 <p style='text-align: center\;'>VOLUNTEER TO SET UP\, PLEASE CONTACT:<br /
 >John and Karen LaTorra at <joomla-hidden-mail  is-link='1' is-email='1' f
 irst='anRsYXRvcnJh' last='Z21haWwuY29t' text='anRsYXRvcnJhQGdtYWlsLmNvbQ==
 ' base='' >This email address is being protected from spambots. You need J
 avaScript enabled to view it.</joomla-hidden-mail><br /><br />RSVP by Sept
 ember 7\, 2017</p>\n<p style='text-align: center\;'> </p>
DTSTART;TZID=America/Los_Angeles:20180914T113000
DTEND;TZID=America/Los_Angeles:20180914T150000
SUMMARY:Tri-Chapter Picnic
URL:https://iccmontereybay.org/index.php/calendar/23-default/25-events/244-
 tri-chapter-picnic
X-ALT-DESC;FMTTYPE=TEXT/HTML:<p style='text-align: center\;'><strong>Tri Ch
 apter Picnic</strong></p>\n<p style='text-align: center\;'><strong>Higuera
  Adobe Park\, 679-715 Wessex Pl. Milpitas\, CA  95035</strong></p>\n<p sty
 le='text-align: center\;'><strong>Friday\, September 14th\, 2018</strong><
 br /><strong>11:30 A.M. – 3:00 P.M.</strong></p>\n<p style='text-align: ce
 nter\;'>BBQ Lunch Provided</p>\n<p style='text-align: center\;'>A light me
 eting agenda will follow</p>\n<p style='text-align: center\;'>Registration
  $TBD</p>\n<p style='text-align: center\;'> </p>\n<p style='text-align: ce
 nter\;'> </p>\n<p style='text-align: center\;'>Information on Higuera Adod
 e Park:<br />A historic adobe house sits on this 5.5 acre park with 9 barb
 eque units\, 16 tables\, play equipment\, parking for 20\, and plenty of s
 hade trees.</p>\n<p style='text-align: center\;'>VOLUNTEER TO SET UP\, PLE
 ASE CONTACT:<br />John and Karen LaTorra at <joomla-hidden-mail  is-link='
 1' is-email='1' first='anRsYXRvcnJh' last='Z21haWwuY29t' text='anRsYXRvcnJ
 hQGdtYWlsLmNvbQ==' base='' >This email address is being protected from spa
 mbots. You need JavaScript enabled to view it.</joomla-hidden-mail><br /><
 br />RSVP by September 7\, 2017</p>\n<p style='text-align: center\;'> </p>
END:VEVENT
END:VCALENDAR
