BEGIN:VCALENDAR
VERSION:2.0
PRODID:-//https://iccmontereybay.org//NONSGML kigkonsult.se iCalcreator 2.41.71//
CALSCALE:GREGORIAN
METHOD:PUBLISH
UID:38636230-6162-4138-a635-373538303133
X-WR-CALNAME:JCal Pro Calendar
X-WR-CALDESC:Your online events calendar
X-WR-TIMEZONE:America/Los_Angeles
BEGIN:VTIMEZONE
TZID:America/Los_Angeles
TZUNTIL:20271107T090000Z
BEGIN:STANDARD
TZNAME:PST
DTSTART:20251102T020000
TZOFFSETFROM:-0700
TZOFFSETTO:-0800
RDATE:20261101T020000
END:STANDARD
BEGIN:DAYLIGHT
TZNAME:PDT
DTSTART:20260308T020000
TZOFFSETFROM:-0800
TZOFFSETTO:-0700
RDATE:20270314T020000
END:DAYLIGHT
END:VTIMEZONE
BEGIN:VEVENT
UID:20180725T163000UTC-d89309@http://www.iccmontereybay.org/
DTSTAMP:20260423T185905Z
CATEGORIES:Training
DESCRIPTION:<p class='MsoNormal' style='margin: 0in 0in 10pt\; font-size: 1
 1pt\; font-family: Calibri\, sans-serif\; color: #000000\; text-align: cen
 ter\;' align='center'><em><span style='font-size: 18pt\; color: red\;'>NOR
 THERN CALIFORNIA CHAPTER OF THE</span></em></p>\n<p class='MsoNormal' styl
 e='margin: 0in 0in 10pt\; font-size: 11pt\; font-family: Calibri\, sans-se
 rif\; color: #000000\; text-align: center\;' align='center'><span style='f
 ont-size: 28pt\; color: #0070c0\;'>INTERNATIONAL ASSOCIATION OF</span></p>
 \n<p class='MsoNormal' style='margin: 0in 0in 10pt\; font-size: 11pt\; fon
 t-family: Calibri\, sans-serif\; color: #000000\; text-align: center\;' al
 ign='center'><span style='font-size: 28pt\; color: #0070c0\;'> ELECTRICAL 
 INSPECTORS</span></p>\n<p class='MsoNormal' style='margin: 0in 0in 10pt\; 
 font-size: 11pt\; font-family: Calibri\, sans-serif\; color: #000000\; tex
 t-align: center\;' align='center'><span style='font-size: 16pt\; font-fami
 ly: 'Arial Rounded MT Bold'\, sans-serif\; color: #f79646\;'>BI-MONTHLY CH
 APTER MEETING</span></p>\n<p class='MsoNormal' style='margin: 0in 0in 10pt
 \; font-size: 11pt\; font-family: Calibri\, sans-serif\; color: #000000\;'
 ><span style='font-size: 12pt\; font-family: 'Arial Rounded MT Bold'\, san
 s-serif\;'> </span></p>\n<p class='MsoNormal' style='margin: 0in 0in 10pt\
 ; font-size: 11pt\; font-family: Calibri\, sans-serif\; color: #000000\;'>
 <span style='font-size: 12pt\; font-family: 'Arial Rounded MT Bold'\, sans
 -serif\;'>PRESENTATION TOPIC:</span><span style='font-size: 18pt\; font-fa
 mily: 'Arial Rounded MT Bold'\, sans-serif\;'>  Electrical Requirements in
  Other Codes Besides the NEC</span></p>\n<p class='MsoNormal' style='margi
 n: 0in 0in 10pt\; font-size: 11pt\; font-family: Calibri\, sans-serif\; co
 lor: #000000\;'><span style='font-size: 12pt\; font-family: 'Arial Rounded
  MT Bold'\, sans-serif\; color: #00b050\;'>                      </span><s
 pan style='font-size: 12pt\; font-family: 'Arial Rounded MT Bold'\, sans-s
 erif\;'>SPEAKERS:    John Taecker\, Senior Regulatory Engineer\, UL and Mi
 ke Stone\, NEMA West Coast Field Rep</span></p>\n<p class='MsoNormal' styl
 e='margin: 0in 0in 10pt\; font-size: 11pt\; font-family: Calibri\, sans-se
 rif\; color: #000000\;'><span style='font-size: 12pt\; font-family: 'Arial
  Rounded MT Bold'\, sans-serif\;'> </span></p>\n<p class='MsoNormal' style
 ='margin: 0in 0in 10pt\; font-size: 11pt\; font-family: Calibri\, sans-ser
 if\; color: #000000\;'><span style='font-size: 12pt\; font-family: 'Times 
 New Roman'\, serif\;'>WHEN:                       <strong>WEDNESDAY\, July
  25\, 2018\,  9:30 a.m. to 2:00 p.m.</strong></span></p>\n<p class='MsoNor
 mal' style='margin: 0in 0in 10pt\; font-size: 11pt\; font-family: Calibri\
 , sans-serif\; color: #000000\; line-height: 16.8667px\;'><span style='fon
 t-size: 12pt\; line-height: 18.4px\; font-family: 'Times New Roman'\, seri
 f\;'>WHERE:                     IBEW Local 234\, 10300 Merritt Street\, Ca
 stroville\, CA 95012</span></p>\n<p class='MsoNormal' style='margin: 0in 0
 in 10pt\; font-size: 11pt\; font-family: Calibri\, sans-serif\; color: #00
 0000\;'><span style='font-size: 12pt\; font-family: 'Times New Roman'\, se
 rif\;'> </span></p>\n<p class='MsoNormal' style='margin: 0in 0in 10pt\; fo
 nt-size: 11pt\; font-family: Calibri\, sans-serif\; color: #000000\;'><spa
 n style='font-size: 12pt\; font-family: 'Times New Roman'\, serif\;'>COST:
                          $20.00 for </span><span style='font-size: 12pt\; 
 font-family: 'Times New Roman'\, serif\;'>LUNCH (cash or check).  <strong>
 PLEASE RSVP SO THAT WE CAN GET AN ACCURATE<span style='color: #1f497d\;'> 
 </span>LUNCH COUNT<span style='color: #1f497d\;'>.</span></strong></span><
 /p>\n<p class='MsoNormal' style='margin: 0in 0in 10pt\; font-size: 11pt\; 
 font-family: Calibri\, sans-serif\; color: #000000\; text-align: center\;'
  align='center'><span style='font-size: 12pt\; font-family: 'Times New Rom
 an'\, serif\;'>PLEASE JOIN US FOR THE GENERAL MEETING\, INDUSTRY REPORTS\,
  EDUCATIONAL PROGRAM\, LUNCH AND CODE DISCUSSION</span></p>\n<p class='Mso
 Normal' style='margin: 0in 0in 10pt\; font-size: 11pt\; font-family: Calib
 ri\, sans-serif\; color: #000000\; text-align: center\;' align='center'><e
 m><span style='font-size: 12pt\; font-family: 'Times New Roman'\, serif\; 
 color: red\;'>Would you like to increase your knowledge and understanding 
 of the NEC?</span></em></p>\n<p class='MsoNormal' style='margin: 0in 0in 0
 .0001pt\; font-size: 11pt\; font-family: Calibri\, sans-serif\; color: #00
 0000\;'><span style='font-size: 12pt\; font-family: 'Times New Roman'\, se
 rif\;'>There are many requirements in the “other codes” (Building\, Fire\,
  Residential\, Energy\, etc.) besides the NEC that affect electrical insta
 llations and inspections.  Some examples include exit illumination and sig
 nage\, smoke and fire alarm systems\, emergency systems\, allowable lighti
 ng loads\, notching and boring of wood members\, etc.  This presentation w
 ill include these topics and more\, and give a comprehensive overview of e
 lectrical requirements in other codes.</span></p>
DTSTART;TZID=America/Los_Angeles:20180725T093000
DTEND;TZID=America/Los_Angeles:20180725T140000
SUMMARY:Electrical Requirements in Other Codes Besides the NEC
URL:https://iccmontereybay.org/index.php/calendar/23-default/26-training/27
 4-2018-electrical-requirements-in-other-codes-besides-the-nec
X-ALT-DESC;FMTTYPE=TEXT/HTML:<p class='MsoNormal' style='margin: 0in 0in 10
 pt\; font-size: 11pt\; font-family: Calibri\, sans-serif\; color: #000000\
 ; text-align: center\;' align='center'><em><span style='font-size: 18pt\; 
 color: red\;'>NORTHERN CALIFORNIA CHAPTER OF THE</span></em></p>\n<p class
 ='MsoNormal' style='margin: 0in 0in 10pt\; font-size: 11pt\; font-family: 
 Calibri\, sans-serif\; color: #000000\; text-align: center\;' align='cente
 r'><span style='font-size: 28pt\; color: #0070c0\;'>INTERNATIONAL ASSOCIAT
 ION OF</span></p>\n<p class='MsoNormal' style='margin: 0in 0in 10pt\; font
 -size: 11pt\; font-family: Calibri\, sans-serif\; color: #000000\; text-al
 ign: center\;' align='center'><span style='font-size: 28pt\; color: #0070c
 0\;'> ELECTRICAL INSPECTORS</span></p>\n<p class='MsoNormal' style='margin
 : 0in 0in 10pt\; font-size: 11pt\; font-family: Calibri\, sans-serif\; col
 or: #000000\; text-align: center\;' align='center'><span style='font-size:
  16pt\; font-family: 'Arial Rounded MT Bold'\, sans-serif\; color: #f79646
 \;'>BI-MONTHLY CHAPTER MEETING</span></p>\n<p class='MsoNormal' style='mar
 gin: 0in 0in 10pt\; font-size: 11pt\; font-family: Calibri\, sans-serif\; 
 color: #000000\;'><span style='font-size: 12pt\; font-family: 'Arial Round
 ed MT Bold'\, sans-serif\;'> </span></p>\n<p class='MsoNormal' style='marg
 in: 0in 0in 10pt\; font-size: 11pt\; font-family: Calibri\, sans-serif\; c
 olor: #000000\;'><span style='font-size: 12pt\; font-family: 'Arial Rounde
 d MT Bold'\, sans-serif\;'>PRESENTATION TOPIC:</span><span style='font-siz
 e: 18pt\; font-family: 'Arial Rounded MT Bold'\, sans-serif\;'>  Electrica
 l Requirements in Other Codes Besides the NEC</span></p>\n<p class='MsoNor
 mal' style='margin: 0in 0in 10pt\; font-size: 11pt\; font-family: Calibri\
 , sans-serif\; color: #000000\;'><span style='font-size: 12pt\; font-famil
 y: 'Arial Rounded MT Bold'\, sans-serif\; color: #00b050\;'>              
         </span><span style='font-size: 12pt\; font-family: 'Arial Rounded 
 MT Bold'\, sans-serif\;'>SPEAKERS:    John Taecker\, Senior Regulatory Eng
 ineer\, UL and Mike Stone\, NEMA West Coast Field Rep</span></p>\n<p class
 ='MsoNormal' style='margin: 0in 0in 10pt\; font-size: 11pt\; font-family: 
 Calibri\, sans-serif\; color: #000000\;'><span style='font-size: 12pt\; fo
 nt-family: 'Arial Rounded MT Bold'\, sans-serif\;'> </span></p>\n<p class=
 'MsoNormal' style='margin: 0in 0in 10pt\; font-size: 11pt\; font-family: C
 alibri\, sans-serif\; color: #000000\;'><span style='font-size: 12pt\; fon
 t-family: 'Times New Roman'\, serif\;'>WHEN:                       <strong
 >WEDNESDAY\, July 25\, 2018\,  9:30 a.m. to 2:00 p.m.</strong></span></p>
 \n<p class='MsoNormal' style='margin: 0in 0in 10pt\; font-size: 11pt\; fon
 t-family: Calibri\, sans-serif\; color: #000000\; line-height: 16.8667px\;
 '><span style='font-size: 12pt\; line-height: 18.4px\; font-family: 'Times
  New Roman'\, serif\;'>WHERE:                     IBEW Local 234\, 10300 M
 erritt Street\, Castroville\, CA 95012</span></p>\n<p class='MsoNormal' st
 yle='margin: 0in 0in 10pt\; font-size: 11pt\; font-family: Calibri\, sans-
 serif\; color: #000000\;'><span style='font-size: 12pt\; font-family: 'Tim
 es New Roman'\, serif\;'> </span></p>\n<p class='MsoNormal' style='margin:
  0in 0in 10pt\; font-size: 11pt\; font-family: Calibri\, sans-serif\; colo
 r: #000000\;'><span style='font-size: 12pt\; font-family: 'Times New Roman
 '\, serif\;'>COST:                         $20.00 for </span><span style='
 font-size: 12pt\; font-family: 'Times New Roman'\, serif\;'>LUNCH (cash or
  check).  <strong>PLEASE RSVP SO THAT WE CAN GET AN ACCURATE<span style='c
 olor: #1f497d\;'> </span>LUNCH COUNT<span style='color: #1f497d\;'>.</span
 ></strong></span></p>\n<p class='MsoNormal' style='margin: 0in 0in 10pt\; 
 font-size: 11pt\; font-family: Calibri\, sans-serif\; color: #000000\; tex
 t-align: center\;' align='center'><span style='font-size: 12pt\; font-fami
 ly: 'Times New Roman'\, serif\;'>PLEASE JOIN US FOR THE GENERAL MEETING\, 
 INDUSTRY REPORTS\, EDUCATIONAL PROGRAM\, LUNCH AND CODE DISCUSSION</span><
 /p>\n<p class='MsoNormal' style='margin: 0in 0in 10pt\; font-size: 11pt\; 
 font-family: Calibri\, sans-serif\; color: #000000\; text-align: center\;'
  align='center'><em><span style='font-size: 12pt\; font-family: 'Times New
  Roman'\, serif\; color: red\;'>Would you like to increase your knowledge 
 and understanding of the NEC?</span></em></p>\n<p class='MsoNormal' style=
 'margin: 0in 0in 0.0001pt\; font-size: 11pt\; font-family: Calibri\, sans-
 serif\; color: #000000\;'><span style='font-size: 12pt\; font-family: 'Tim
 es New Roman'\, serif\;'>There are many requirements in the “other codes” 
 (Building\, Fire\, Residential\, Energy\, etc.) besides the NEC that affec
 t electrical installations and inspections.  Some examples include exit il
 lumination and signage\, smoke and fire alarm systems\, emergency systems\
 , allowable lighting loads\, notching and boring of wood members\, etc.  T
 his presentation will include these topics and more\, and give a comprehen
 sive overview of electrical requirements in other codes.</span></p>
END:VEVENT
END:VCALENDAR
