BEGIN:VCALENDAR
VERSION:2.0
PRODID:-//https://iccmontereybay.org//NONSGML kigkonsult.se iCalcreator 2.41.71//
CALSCALE:GREGORIAN
METHOD:PUBLISH
UID:38366132-3636-4437-a164-303236616262
X-WR-CALNAME:JCal Pro Calendar
X-WR-CALDESC:Your online events calendar
X-WR-TIMEZONE:America/Los_Angeles
BEGIN:VTIMEZONE
TZID:America/Los_Angeles
TZUNTIL:20271107T090000Z
BEGIN:STANDARD
TZNAME:PST
DTSTART:20251102T020000
TZOFFSETFROM:-0700
TZOFFSETTO:-0800
RDATE:20261101T020000
END:STANDARD
BEGIN:DAYLIGHT
TZNAME:PDT
DTSTART:20260308T020000
TZOFFSETFROM:-0800
TZOFFSETTO:-0700
RDATE:20270314T020000
END:DAYLIGHT
END:VTIMEZONE
BEGIN:VEVENT
UID:20180830T130000UTC-ce109a@http://www.iccmontereybay.org/
DTSTAMP:20260423T190247Z
CATEGORIES:Training
DESCRIPTION:<p>This is a special presentation for Combination Inspectors on
  1 and 2 Family Dwelling Inspections\, by Keith Lofland</p>\n<p><span styl
 e='font-size: 12.16px\;'>Agenda--- 0.4 CEU</span></p>\n<p>Register at:  <a
  href='http://www.iaeisw.com'><span style='font-size: 12.16px\;'>www.iaeis
 w.com</span></a></p>
DTSTART;TZID=America/Los_Angeles:20180830T080000
DTEND;TZID=America/Los_Angeles:20180830T120000
SUMMARY:IAEI Southwestern Section Meeting 2018
URL:https://iccmontereybay.org/index.php/calendar/23-default/26-training/27
 6-iaeisw20180830
X-ALT-DESC;FMTTYPE=TEXT/HTML:<p>This is a special presentation for Combinat
 ion Inspectors on 1 and 2 Family Dwelling Inspections\, by Keith Lofland</
 p>\n<p><span style='font-size: 12.16px\;'>Agenda--- 0.4 CEU</span></p>\n<p
 >Register at:  <a href='http://www.iaeisw.com'><span style='font-size: 12.
 16px\;'>www.iaeisw.com</span></a></p>
END:VEVENT
END:VCALENDAR
