BEGIN:VCALENDAR
VERSION:2.0
PRODID:-//https://iccmontereybay.org//NONSGML kigkonsult.se iCalcreator 2.41.71//
CALSCALE:GREGORIAN
METHOD:PUBLISH
UID:36346333-6266-4662-b164-303364623332
X-WR-CALNAME:JCal Pro Calendar
X-WR-CALDESC:Your online events calendar
X-WR-TIMEZONE:America/Los_Angeles
BEGIN:VTIMEZONE
TZID:America/Los_Angeles
TZUNTIL:20271107T090000Z
BEGIN:STANDARD
TZNAME:PST
DTSTART:20251102T020000
TZOFFSETFROM:-0700
TZOFFSETTO:-0800
RDATE:20261101T020000
END:STANDARD
BEGIN:DAYLIGHT
TZNAME:PDT
DTSTART:20260308T020000
TZOFFSETFROM:-0800
TZOFFSETTO:-0700
RDATE:20270314T020000
END:DAYLIGHT
END:VTIMEZONE
BEGIN:VEVENT
UID:20180828T140000UTC-751fef@http://www.iccmontereybay.org/
DTSTAMP:20260423T190933Z
CATEGORIES:Training
DESCRIPTION:<p>The Southwestern Section of IAEI is proud to present this op
 portunity to local inspectors\, electricians and engineers to earn 1.0 CEU
  and experience our meeting without having to miss work for an entire week
 .</p>\n<p><span style='font-size: 12.16px\;'>Agenda--- 1.0 CEU</span></p>
 \n<p>7:00 – 9:00 am Code Breakfast</p>\n<p>9:00 – 9:30 am Break - Visit Ex
 hibitors</p>\n<p>9:30 – 11:00 pm Swimming Pools and Spas Inspections</p>\n
 <p>11:00 – 12:00 pm PV\, Where We Are Now</p>\n<p>12:00 – 2:15 pm Separate
 ly Derived Systems Grounding and Bonding</p>\n<p>2:15 – 2:45 pm Break –Vis
 it Exhibitors</p>\n<p>2:45 - 5:00 pm Dry Type Transformers Inspection and 
 Plan Review</p>
DTSTART;TZID=America/Los_Angeles:20180828T070000
DTEND;TZID=America/Los_Angeles:20180828T170000
SUMMARY:IAEI Southwestern Section Meeting 2018
URL:https://iccmontereybay.org/index.php/calendar/23-default/26-training/27
 5-iaeisw20180828
X-ALT-DESC;FMTTYPE=TEXT/HTML:<p>The Southwestern Section of IAEI is proud t
 o present this opportunity to local inspectors\, electricians and engineer
 s to earn 1.0 CEU and experience our meeting without having to miss work f
 or an entire week.</p>\n<p><span style='font-size: 12.16px\;'>Agenda--- 1.
 0 CEU</span></p>\n<p>7:00 – 9:00 am Code Breakfast</p>\n<p>9:00 – 9:30 am 
 Break - Visit Exhibitors</p>\n<p>9:30 – 11:00 pm Swimming Pools and Spas I
 nspections</p>\n<p>11:00 – 12:00 pm PV\, Where We Are Now</p>\n<p>12:00 – 
 2:15 pm Separately Derived Systems Grounding and Bonding</p>\n<p>2:15 – 2:
 45 pm Break –Visit Exhibitors</p>\n<p>2:45 - 5:00 pm Dry Type Transformers
  Inspection and Plan Review</p>
END:VEVENT
END:VCALENDAR
