BEGIN:VCALENDAR
VERSION:2.0
PRODID:-//https://iccmontereybay.org//NONSGML kigkonsult.se iCalcreator 2.41.71//
CALSCALE:GREGORIAN
METHOD:PUBLISH
UID:30323634-3737-4063-b435-353362303334
X-WR-CALNAME:JCal Pro Calendar
X-WR-CALDESC:Your online events calendar
X-WR-TIMEZONE:America/Los_Angeles
BEGIN:VTIMEZONE
TZID:America/Los_Angeles
TZUNTIL:20271107T090000Z
BEGIN:STANDARD
TZNAME:PST
DTSTART:20251102T020000
TZOFFSETFROM:-0700
TZOFFSETTO:-0800
RDATE:20261101T020000
END:STANDARD
BEGIN:DAYLIGHT
TZNAME:PDT
DTSTART:20260308T020000
TZOFFSETFROM:-0800
TZOFFSETTO:-0700
RDATE:20270314T020000
END:DAYLIGHT
END:VTIMEZONE
BEGIN:VEVENT
UID:20220421T100000PDT-6920kEXu44@http://www.iccmontereybay.org/mmp_upgrade
 /
DTSTAMP:20260423T213237Z
CATEGORIES:Meetings
DESCRIPTION:<p style='text-align: center\;'>Virtual Participants: Use the l
 ink below to login into the Virtual Chapter meeting (Zoom).<br />Here is t
 he zoom link for the monthly Monterey Chapter meetings to share with your 
 members:<br /><a href='https://zoom.us/j/95557755164'>https://zoom.us/j/95
 557755164</a><br />Monterey Bay Chapter ICC is inviting you to a scheduled
  Zoom meeting.<br />Meeting ID: 955 5775 5164<br />Passcode: 033042<br />Z
 oom is an option\, we will meet in person at the Marina Airport</p>\n<p>&n
 bsp\;</p>\n<p style='text-align: center\;'><a href='images/Meetings/Agenda
 /2022-05-19_ICC_MBC_Agenda_Revised.pdf'>Agenda</a></p>
DTSTART;TZID=America/Los_Angeles:20220519T100000
DTEND;TZID=America/Los_Angeles:20220519T120000
SUMMARY:ICC Monterey Bay Chapter meeting
URL:https://iccmontereybay.org/index.php/calendar/23-default/24-meetings/48
 9-icc-monterey-bay-chapter-meeting
X-ALT-DESC;FMTTYPE=TEXT/HTML:<p style='text-align: center\;'>Virtual Partic
 ipants: Use the link below to login into the Virtual Chapter meeting (Zoom
 ).<br />Here is the zoom link for the monthly Monterey Chapter meetings to
  share with your members:<br /><a href='https://zoom.us/j/95557755164'>htt
 ps://zoom.us/j/95557755164</a><br />Monterey Bay Chapter ICC is inviting y
 ou to a scheduled Zoom meeting.<br />Meeting ID: 955 5775 5164<br />Passco
 de: 033042<br />Zoom is an option\, we will meet in person at the Marina A
 irport</p>\n<p>&nbsp\;</p>\n<p style='text-align: center\;'><a href='image
 s/Meetings/Agenda/2022-05-19_ICC_MBC_Agenda_Revised.pdf'>Agenda</a></p>
END:VEVENT
END:VCALENDAR
