BEGIN:VCALENDAR
VERSION:2.0
PRODID:-//https://iccmontereybay.org//NONSGML kigkonsult.se iCalcreator 2.41.71//
CALSCALE:GREGORIAN
METHOD:PUBLISH
UID:64343462-6462-4739-a335-363562386330
X-WR-CALNAME:JCal Pro Calendar
X-WR-CALDESC:Your online events calendar
X-WR-TIMEZONE:America/Los_Angeles
BEGIN:VTIMEZONE
TZID:America/Los_Angeles
TZUNTIL:20271107T090000Z
BEGIN:STANDARD
TZNAME:PST
DTSTART:20251102T020000
TZOFFSETFROM:-0700
TZOFFSETTO:-0800
RDATE:20261101T020000
END:STANDARD
BEGIN:DAYLIGHT
TZNAME:PDT
DTSTART:20260308T020000
TZOFFSETFROM:-0800
TZOFFSETTO:-0700
RDATE:20270314T020000
END:DAYLIGHT
END:VTIMEZONE
BEGIN:VEVENT
UID:20170216T183000UTC-eb7f1e@http://www.iccmontereybay.org/
DTSTAMP:20260423T190340Z
CATEGORIES:Meetings
DESCRIPTION:<p><span style='color: #434343\; font-family: Verdana\, sans-se
 rif\; font-size: 16px\;'>Just a friendly reminder that the November Chapte
 r meeting of the 16</span><sup style='color: #434343\; font-family: Verdan
 a\, sans-serif\;'>th</sup><span style='color: #434343\; font-family: Verda
 na\, sans-serif\; font-size: 16px\;'> will <em><strong>not</strong></em> b
 e held at the Marina Library.  We will be meeting at the Monterey Regional
  Waste Management Facility which is located at 14201 Del Monte Blvd in Mar
 ina. We will meet at the administration building\, and have an opportunity
  to tour the new recycling infrastructure that has just been completed. If
  you are going to attend and wish to take the tour please be advised that 
 you will need to bring the following</span></p>\n<ul>\n<li>a hard hat</li>
 \n<li>safety vest</li>\n<li>safety glasses\, and</li>\n<li>please wear clo
 sed toe shoes</li>\n</ul>\n<p><span style='font-size: 16px\;'>Also if you 
 are planning on attending if you would be so kind to let Dan Paolini know 
 so we can get a head count for lunch which will be served prior to the tou
 r. Thanks and hope to see you there!</span></p>\n<p><span style='font-size
 : 16px\;'>Dan Paolini</span></p>\n<p><span style='font-size: 16px\;'> Chie
 f Building Official</span></p>\n<p><span style='font-size: 16px\;'> City o
 f Marina </span></p>\n<p><span style='font-size: 16px\;'>ph 831-884-1285 <
 /span></p>\n<p><span style='font-size: 16px\;'>fax 831-384-0425</span></p>
 \n<p><joomla-hidden-mail  is-link='1' is-email='1' first='ZHBhb2xpbmk=' la
 st='Y2l0eW9mbWFyaW5hLm9yZw==' text='PHNwYW4gc3R5bGU9ImZvbnQtc2l6ZTogMTZweD
 siPmRwYW9saW5pQGNpdHlvZm1hcmluYS5vcmc8L3NwYW4+' base='' >This email addres
 s is being protected from spambots. You need JavaScript enabled to view it
 .</joomla-hidden-mail></p>
DTSTART;TZID=America/Los_Angeles:20171116T103000
DTEND;TZID=America/Los_Angeles:20171116T113000
SUMMARY:ICC Monterey Bay Chapter meeting
URL:https://iccmontereybay.org/index.php/calendar/23-default/24-meetings/20
 2-icc-monterey-bay-chapter-meeting
X-ALT-DESC;FMTTYPE=TEXT/HTML:<p><span style='color: #434343\; font-family: 
 Verdana\, sans-serif\; font-size: 16px\;'>Just a friendly reminder that th
 e November Chapter meeting of the 16</span><sup style='color: #434343\; fo
 nt-family: Verdana\, sans-serif\;'>th</sup><span style='color: #434343\; f
 ont-family: Verdana\, sans-serif\; font-size: 16px\;'> will <em><strong>no
 t</strong></em> be held at the Marina Library.  We will be meeting at the 
 Monterey Regional Waste Management Facility which is located at 14201 Del 
 Monte Blvd in Marina. We will meet at the administration building\, and ha
 ve an opportunity to tour the new recycling infrastructure that has just b
 een completed. If you are going to attend and wish to take the tour please
  be advised that you will need to bring the following</span></p>\n<ul>\n<l
 i>a hard hat</li>\n<li>safety vest</li>\n<li>safety glasses\, and</li>\n<l
 i>please wear closed toe shoes</li>\n</ul>\n<p><span style='font-size: 16p
 x\;'>Also if you are planning on attending if you would be so kind to let 
 Dan Paolini know so we can get a head count for lunch which will be served
  prior to the tour. Thanks and hope to see you there!</span></p>\n<p><span
  style='font-size: 16px\;'>Dan Paolini</span></p>\n<p><span style='font-si
 ze: 16px\;'> Chief Building Official</span></p>\n<p><span style='font-size
 : 16px\;'> City of Marina </span></p>\n<p><span style='font-size: 16px\;'>
 ph 831-884-1285 </span></p>\n<p><span style='font-size: 16px\;'>fax 831-38
 4-0425</span></p>\n<p><joomla-hidden-mail  is-link='1' is-email='1' first=
 'ZHBhb2xpbmk=' last='Y2l0eW9mbWFyaW5hLm9yZw==' text='PHNwYW4gc3R5bGU9ImZvb
 nQtc2l6ZTogMTZweDsiPmRwYW9saW5pQGNpdHlvZm1hcmluYS5vcmc8L3NwYW4+' base='' >
 This email address is being protected from spambots. You need JavaScript e
 nabled to view it.</joomla-hidden-mail></p>
END:VEVENT
END:VCALENDAR
